BEGIN:VCALENDAR
VERSION:2.0
PRODID:VSD-Portal-www.volley.de
METHOD:PUBLISH
BEGIN:VEVENT
UID:589785-2da69939ed67427dc6bf3daba21059e9
X-WR-RELCALID:589785-2da69939ed67427dc6bf3daba21059e9
ORGANIZER:Volleyball
SEQUENCE:261141932
LOCATION:Sporthalle Plieningen (beim Hallenbad), Stuttgart-Plieningen,
  Sporthalle Plieningen (beim Hallenbad), 0  Stuttgart-Plieningen
GEO:48.70875167846680000000;9.20524978637695300000
SUMMARY:B-Kl. 1 O Fr.: TSV Birkach - TB Neuffen
CLASS:PUBLIC
DTSTART:20211009T120000Z
DTSTAMP:20211216T154500Z
END:VEVENT
BEGIN:VEVENT
UID:589795-2da69939ed67427dc6bf3daba21059e9
X-WR-RELCALID:589795-2da69939ed67427dc6bf3daba21059e9
ORGANIZER:Volleyball
SEQUENCE:261141932
LOCATION:TB-Sporthalle, Neuffen, TB-Sporthalle, 0  Neuffen
GEO:48.54978179931640600000;9.37183380126953100000
SUMMARY:B-Kl. 1 O Fr.: TB Neuffen - TSV Bernhausen 2
CLASS:PUBLIC
DTSTART:20211024T090000Z
DTSTAMP:20211216T154500Z
END:VEVENT
BEGIN:VEVENT
UID:589797-2da69939ed67427dc6bf3daba21059e9
X-WR-RELCALID:589797-2da69939ed67427dc6bf3daba21059e9
ORGANIZER:Volleyball
SEQUENCE:261141932
LOCATION:TB-Sporthalle, Neuffen, TB-Sporthalle, 0  Neuffen
GEO:48.54978179931640600000;9.37183380126953100000
SUMMARY:B-Kl. 1 O Fr.: TB Neuffen - TV Cannstatt 1846 2
CLASS:PUBLIC
DTSTART:20211024T090000Z
DTSTAMP:20211216T154500Z
END:VEVENT
BEGIN:VEVENT
UID:589823-2da69939ed67427dc6bf3daba21059e9
X-WR-RELCALID:589823-2da69939ed67427dc6bf3daba21059e9
ORGANIZER:Volleyball
SEQUENCE:261141932
LOCATION:TB-Sporthalle, Neuffen, TB-Sporthalle, 0  Neuffen
GEO:48.54978179931640600000;9.37183380126953100000
SUMMARY:B-Kl. 1 O Fr.: TB Neuffen - SV 1845 Esslingen 3
CLASS:PUBLIC
DTSTART:20211121T100000Z
DTSTAMP:20211216T154500Z
END:VEVENT
BEGIN:VEVENT
UID:589824-2da69939ed67427dc6bf3daba21059e9
X-WR-RELCALID:589824-2da69939ed67427dc6bf3daba21059e9
ORGANIZER:Volleyball
SEQUENCE:261141932
LOCATION:TB-Sporthalle, Neuffen, TB-Sporthalle, 0  Neuffen
GEO:48.54978179931640600000;9.37183380126953100000
SUMMARY:B-Kl. 1 O Fr.: TB Neuffen - SVL Kirchheim
CLASS:PUBLIC
DTSTART:20211121T100000Z
DTSTAMP:20211216T154500Z
END:VEVENT
BEGIN:VEVENT
UID:589851-2da69939ed67427dc6bf3daba21059e9
X-WR-RELCALID:589851-2da69939ed67427dc6bf3daba21059e9
ORGANIZER:Volleyball
SEQUENCE:261141932
LOCATION:Städtische Sporthalle, Neuffen, Städtische Sporthalle, 0  Neu
 ffen
GEO:48.54303741455078000000;9.37523460388183600000
SUMMARY:B-Kl. 1 O Fr.: TB Neuffen - TSV Birkach
CLASS:PUBLIC
DTSTART:20220116T100000Z
DTSTAMP:20211216T154500Z
END:VEVENT
BEGIN:VEVENT
UID:589857-2da69939ed67427dc6bf3daba21059e9
X-WR-RELCALID:589857-2da69939ed67427dc6bf3daba21059e9
ORGANIZER:Volleyball
SEQUENCE:261141932
LOCATION:Sporthalle Elisabeth-Selbert-Gymnasium, Filderstadt-Bernhause
 n, Sporthalle Elisabeth-Selbert-Gymnasium, 0  Filderstadt-Bernhausen
GEO:48.66819763183594000000;9.21285820007324200000
SUMMARY:B-Kl. 1 O Fr.: TSV Bernhausen 2 - TB Neuffen
CLASS:PUBLIC
DTSTART:20220213T090000Z
DTSTAMP:20211216T154500Z
END:VEVENT
BEGIN:VEVENT
UID:589854-2da69939ed67427dc6bf3daba21059e9
X-WR-RELCALID:589854-2da69939ed67427dc6bf3daba21059e9
ORGANIZER:Volleyball
SEQUENCE:261141932
LOCATION:Walter-Jakob-Halle, Kirchheim/Teck, Walter-Jakob-Halle, 0  Ki
 rchheim/Teck
GEO:48.64442062377930000000;9.46920204162597700000
SUMMARY:B-Kl. 1 O Fr.: SVL Kirchheim - TB Neuffen
CLASS:PUBLIC
DTSTART:20220321T190000Z
DTSTAMP:20220327T124500Z
END:VEVENT
BEGIN:VEVENT
UID:589860-2da69939ed67427dc6bf3daba21059e9
X-WR-RELCALID:589860-2da69939ed67427dc6bf3daba21059e9
ORGANIZER:Volleyball
SEQUENCE:261141932
LOCATION:Sporthalle Freiberg, Stuttgart-Freiberg, Sporthalle Freiberg,
  0  Stuttgart-Freiberg
GEO:48.83939361572265600000;9.21033477783203100000
SUMMARY:B-Kl. 1 O Fr.: TV Cannstatt 1846 2 - TB Neuffen
CLASS:PUBLIC
DTSTART:20220322T110000Z
DTSTAMP:20220327T124500Z
END:VEVENT
BEGIN:VEVENT
UID:589865-2da69939ed67427dc6bf3daba21059e9
X-WR-RELCALID:589865-2da69939ed67427dc6bf3daba21059e9
ORGANIZER:Volleyball
SEQUENCE:261141932
LOCATION:Sporthalle Weil, Esslingen, Sporthalle Weil, 0  Esslingen
GEO:48.73863601684570000000;9.27671527862548800000
SUMMARY:B-Kl. 1 O Fr.: SV 1845 Esslingen 3 - TB Neuffen
CLASS:PUBLIC
DTSTART:20220326T100000Z
DTSTAMP:20211216T154500Z
END:VEVENT
END:VCALENDAR