BEGIN:VCALENDAR
VERSION:2.0
PRODID:VSD-Portal-www.volley.de
METHOD:PUBLISH
BEGIN:VEVENT
UID:588576-2da69939ed67427dc6bf3daba21059e9
X-WR-RELCALID:588576-2da69939ed67427dc6bf3daba21059e9
ORGANIZER:Volleyball
SEQUENCE:261111018
LOCATION:Fischerwörth-Sporthalle Sportzentrum, Ingersheim, Fischerwört
 h-Sporthalle Sportzentrum, 0  Ingersheim
GEO:48.95983505249023400000;9.18996715545654300000
SUMMARY:BL N Mä.: TSV Kleiningersheim - SV Salamander Kornwestheim
CLASS:PUBLIC
DTSTART:20211023T090000Z
DTSTAMP:20211217T151500Z
END:VEVENT
BEGIN:VEVENT
UID:588609-2da69939ed67427dc6bf3daba21059e9
X-WR-RELCALID:588609-2da69939ed67427dc6bf3daba21059e9
ORGANIZER:Volleyball
SEQUENCE:261111018
LOCATION:Sporthalle Pattonville, Kornwestheim, Sporthalle Pattonville,
  0  Kornwestheim
GEO:48.85875701904297000000;9.19702434539795000000
SUMMARY:BL N Mä.: SV Salamander Kornwestheim - TSV Schmiden 2
CLASS:PUBLIC
DTSTART:20211106T133000Z
DTSTAMP:20211217T151500Z
END:VEVENT
BEGIN:VEVENT
UID:588610-2da69939ed67427dc6bf3daba21059e9
X-WR-RELCALID:588610-2da69939ed67427dc6bf3daba21059e9
ORGANIZER:Volleyball
SEQUENCE:261111018
LOCATION:Sporthalle Pattonville, Kornwestheim, Sporthalle Pattonville,
  0  Kornwestheim
GEO:48.85875701904297000000;9.19702434539795000000
SUMMARY:BL N Mä.: SV Salamander Kornwestheim - ASV Botnang 2
CLASS:PUBLIC
DTSTART:20211106T143000Z
DTSTAMP:20211217T151500Z
END:VEVENT
BEGIN:VEVENT
UID:588613-2da69939ed67427dc6bf3daba21059e9
X-WR-RELCALID:588613-2da69939ed67427dc6bf3daba21059e9
ORGANIZER:Volleyball
SEQUENCE:261111018
LOCATION:Steinbühlhalle, Mainhardt, Steinbühlhalle, 0  Mainhardt
GEO:49.07959365844726600000;9.55393791198730500000
SUMMARY:BL N Mä.: SSV Geißelhardt 2 - SV Salamander Kornwestheim
CLASS:PUBLIC
DTSTART:20211121T130000Z
DTSTAMP:20211217T151500Z
END:VEVENT
BEGIN:VEVENT
UID:588628-2da69939ed67427dc6bf3daba21059e9
X-WR-RELCALID:588628-2da69939ed67427dc6bf3daba21059e9
ORGANIZER:Volleyball
SEQUENCE:261111018
LOCATION:Hannes-Reiber-Halle, Kornwestheim, Hannes-Reiber-Halle, 0  Ko
 rnwestheim
GEO:48.84956741333008000000;9.18101692199707000000
SUMMARY:BL N Mä.: SV Salamander Kornwestheim - TSV Kleiningersheim
CLASS:PUBLIC
DTSTART:20220115T103000Z
DTSTAMP:20211217T151500Z
END:VEVENT
BEGIN:VEVENT
UID:588632-2da69939ed67427dc6bf3daba21059e9
X-WR-RELCALID:588632-2da69939ed67427dc6bf3daba21059e9
ORGANIZER:Volleyball
SEQUENCE:261111018
LOCATION:Neue Sporthalle (SH2), Fellbach-Schmiden, Neue Sporthalle (SH
 2), 0  Fellbach-Schmiden
GEO:48.82790374755859400000;9.26683425903320300000
SUMMARY:BL N Mä.: TSV Schmiden 2 - SV Salamander Kornwestheim
CLASS:PUBLIC
DTSTART:20220129T133000Z
DTSTAMP:20211217T151500Z
END:VEVENT
BEGIN:VEVENT
UID:588621-2da69939ed67427dc6bf3daba21059e9
X-WR-RELCALID:588621-2da69939ed67427dc6bf3daba21059e9
ORGANIZER:Volleyball
SEQUENCE:261111018
LOCATION:Sporthalle Pattonville, Kornwestheim, Sporthalle Pattonville,
  0  Kornwestheim
GEO:48.85875701904297000000;9.19702434539795000000
SUMMARY:BL N Mä.: SV Salamander Kornwestheim - ASV Botnang 3
CLASS:PUBLIC
DTSTART:20220203T193000Z
DTSTAMP:20220125T094000Z
END:VEVENT
BEGIN:VEVENT
UID:588637-2da69939ed67427dc6bf3daba21059e9
X-WR-RELCALID:588637-2da69939ed67427dc6bf3daba21059e9
ORGANIZER:Volleyball
SEQUENCE:261111018
LOCATION:Ballspielhalle Botnang, Stuttgart-Botnang, Ballspielhalle Bot
 nang, 0  Stuttgart-Botnang
GEO:48.77811813354492000000;9.12143993377685500000
SUMMARY:BL N Mä.: ASV Botnang 2 - SV Salamander Kornwestheim
CLASS:PUBLIC
DTSTART:20220212T140000Z
DTSTAMP:20211217T151500Z
END:VEVENT
BEGIN:VEVENT
UID:588620-2da69939ed67427dc6bf3daba21059e9
X-WR-RELCALID:588620-2da69939ed67427dc6bf3daba21059e9
ORGANIZER:Volleyball
SEQUENCE:261111018
LOCATION:Hannes-Reiber-Halle, Kornwestheim, Hannes-Reiber-Halle, 0  Ko
 rnwestheim
GEO:48.84956741333008000000;9.18101692199707000000
SUMMARY:BL N Mä.: SV Salamander Kornwestheim - 1.FC Igersheim
CLASS:PUBLIC
DTSTART:20220220T123000Z
DTSTAMP:20220201T094000Z
END:VEVENT
BEGIN:VEVENT
UID:588643-2da69939ed67427dc6bf3daba21059e9
X-WR-RELCALID:588643-2da69939ed67427dc6bf3daba21059e9
ORGANIZER:Volleyball
SEQUENCE:261111018
LOCATION:Ballspielhalle Botnang, Stuttgart-Botnang, Ballspielhalle Bot
 nang, 0  Stuttgart-Botnang
GEO:48.77811813354492000000;9.12143993377685500000
SUMMARY:BL N Mä.: ASV Botnang 3 - SV Salamander Kornwestheim
CLASS:PUBLIC
DTSTART:20220226T100000Z
DTSTAMP:20211217T151500Z
END:VEVENT
BEGIN:VEVENT
UID:588647-2da69939ed67427dc6bf3daba21059e9
X-WR-RELCALID:588647-2da69939ed67427dc6bf3daba21059e9
ORGANIZER:Volleyball
SEQUENCE:261111018
LOCATION:Hannes-Reiber-Halle, Kornwestheim, Hannes-Reiber-Halle, 0  Ko
 rnwestheim
GEO:48.84956741333008000000;9.18101692199707000000
SUMMARY:BL N Mä.: SV Salamander Kornwestheim - SSV Geißelhardt 2
CLASS:PUBLIC
DTSTART:20220313T130000Z
DTSTAMP:20211217T151500Z
END:VEVENT
BEGIN:VEVENT
UID:588648-2da69939ed67427dc6bf3daba21059e9
X-WR-RELCALID:588648-2da69939ed67427dc6bf3daba21059e9
ORGANIZER:Volleyball
SEQUENCE:261111018
LOCATION:Hannes-Reiber-Halle, Kornwestheim, Hannes-Reiber-Halle, 0  Ko
 rnwestheim
GEO:48.84956741333008000000;9.18101692199707000000
SUMMARY:BL N Mä.: SV Salamander Kornwestheim - TSV G.A Stuttgart 4
CLASS:PUBLIC
DTSTART:20220313T140000Z
DTSTAMP:20211217T151500Z
END:VEVENT
BEGIN:VEVENT
UID:588653-2da69939ed67427dc6bf3daba21059e9
X-WR-RELCALID:588653-2da69939ed67427dc6bf3daba21059e9
ORGANIZER:Volleyball
SEQUENCE:261111018
LOCATION:Großsporthalle, Igersheim, Großsporthalle, 0  Igersheim
GEO:49.49546432495117000000;9.80770874023437500000
SUMMARY:BL N Mä.: 1.FC Igersheim - SV Salamander Kornwestheim
CLASS:PUBLIC
DTSTART:20220327T120000Z
DTSTAMP:20211217T151500Z
END:VEVENT
BEGIN:VEVENT
UID:588625-2da69939ed67427dc6bf3daba21059e9
X-WR-RELCALID:588625-2da69939ed67427dc6bf3daba21059e9
ORGANIZER:Volleyball
SEQUENCE:261111018
LOCATION:Hegel-Halle (Vaihingen), Stuttgart-Vaihingen, Hegel-Halle (Va
 ihingen), 0  Stuttgart-Vaihingen
GEO:48.72226715087890600000;9.10506343841552700000
SUMMARY:BL N Mä.: TSV G.A Stuttgart 4 - SV Salamander Kornwestheim
CLASS:PUBLIC
DTSTART:20220403T090000Z
DTSTAMP:20220303T144500Z
END:VEVENT
END:VCALENDAR