BEGIN:VCALENDAR
VERSION:2.0
PRODID:VSD-Portal-www.volley.de
METHOD:PUBLISH
BEGIN:VEVENT
UID:587216-2da69939ed67427dc6bf3daba21059e9
X-WR-RELCALID:587216-2da69939ed67427dc6bf3daba21059e9
ORGANIZER:Volleyball
SEQUENCE:261102120
LOCATION:Sporthalle Eugen-Bolz-Schule, Bad Waldsee, Sporthalle Eugen-B
 olz-Schule, 0  Bad Waldsee
GEO:47.91849899291992000000;9.74687004089355500000
SUMMARY:OL Fr.: TG Bad Waldsee - TG Nürtingen
CLASS:PUBLIC
DTSTART:20211009T170000Z
DTSTAMP:20211214T054000Z
END:VEVENT
BEGIN:VEVENT
UID:587229-2da69939ed67427dc6bf3daba21059e9
X-WR-RELCALID:587229-2da69939ed67427dc6bf3daba21059e9
ORGANIZER:Volleyball
SEQUENCE:261102120
LOCATION:Sporthalle Eugen-Bolz-Schule, Bad Waldsee, Sporthalle Eugen-B
 olz-Schule, 0  Bad Waldsee
GEO:47.91849899291992000000;9.74687004089355500000
SUMMARY:OL Fr.: TG Bad Waldsee - TG Biberach
CLASS:PUBLIC
DTSTART:20211106T180000Z
DTSTAMP:20211214T054000Z
END:VEVENT
BEGIN:VEVENT
UID:587236-2da69939ed67427dc6bf3daba21059e9
X-WR-RELCALID:587236-2da69939ed67427dc6bf3daba21059e9
ORGANIZER:Volleyball
SEQUENCE:261102120
LOCATION:Sporthalle Eugen-Bolz-Schule, Bad Waldsee, Sporthalle Eugen-B
 olz-Schule, 0  Bad Waldsee
GEO:47.91849899291992000000;9.74687004089355500000
SUMMARY:OL Fr.: TG Bad Waldsee - MTV Ludwigsburg 2
CLASS:PUBLIC
DTSTART:20211120T143000Z
DTSTAMP:20211214T054000Z
END:VEVENT
BEGIN:VEVENT
UID:587247-2da69939ed67427dc6bf3daba21059e9
X-WR-RELCALID:587247-2da69939ed67427dc6bf3daba21059e9
ORGANIZER:Volleyball
SEQUENCE:261102120
LOCATION:Sporthalle Eugen-Bolz-Schule, Bad Waldsee, Sporthalle Eugen-B
 olz-Schule, 0  Bad Waldsee
GEO:47.91849899291992000000;9.74687004089355500000
SUMMARY:OL Fr.: TG Bad Waldsee - TSG Backnang 1846
CLASS:PUBLIC
DTSTART:20211211T143000Z
DTSTAMP:20211214T054000Z
END:VEVENT
BEGIN:VEVENT
UID:587259-2da69939ed67427dc6bf3daba21059e9
X-WR-RELCALID:587259-2da69939ed67427dc6bf3daba21059e9
ORGANIZER:Volleyball
SEQUENCE:261102120
LOCATION:Sporthalle Eugen-Bolz-Schule, Bad Waldsee, Sporthalle Eugen-B
 olz-Schule, 0  Bad Waldsee
GEO:47.91849899291992000000;9.74687004089355500000
SUMMARY:OL Fr.: TG Bad Waldsee - TSG Reutlingen
CLASS:PUBLIC
DTSTART:20220122T180000Z
DTSTAMP:20211214T054000Z
END:VEVENT
BEGIN:VEVENT
UID:587279-2da69939ed67427dc6bf3daba21059e9
X-WR-RELCALID:587279-2da69939ed67427dc6bf3daba21059e9
ORGANIZER:Volleyball
SEQUENCE:261102120
LOCATION:Sporthalle Eugen-Bolz-Schule, Bad Waldsee, Sporthalle Eugen-B
 olz-Schule, 0  Bad Waldsee
GEO:47.91849899291992000000;9.74687004089355500000
SUMMARY:OL Fr.: TG Bad Waldsee - TSF Ditzingen
CLASS:PUBLIC
DTSTART:20220226T180000Z
DTSTAMP:20220218T183000Z
END:VEVENT
BEGIN:VEVENT
UID:587271-2da69939ed67427dc6bf3daba21059e9
X-WR-RELCALID:587271-2da69939ed67427dc6bf3daba21059e9
ORGANIZER:Volleyball
SEQUENCE:261102120
LOCATION:Sporthalle Eugen-Bolz-Schule, Bad Waldsee, Sporthalle Eugen-B
 olz-Schule, 0  Bad Waldsee
GEO:47.91849899291992000000;9.74687004089355500000
SUMMARY:OL Fr.: TG Bad Waldsee - TSV G.A Stuttgart 2
CLASS:PUBLIC
DTSTART:20220309T190000Z
DTSTAMP:20220220T215000Z
END:VEVENT
BEGIN:VEVENT
UID:587293-2da69939ed67427dc6bf3daba21059e9
X-WR-RELCALID:587293-2da69939ed67427dc6bf3daba21059e9
ORGANIZER:Volleyball
SEQUENCE:261102120
LOCATION:Sporthalle Eugen-Bolz-Schule, Bad Waldsee, Sporthalle Eugen-B
 olz-Schule, 0  Bad Waldsee
GEO:47.91849899291992000000;9.74687004089355500000
SUMMARY:OL Fr.: TG Bad Waldsee - BSP MTV Stuttgart 3
CLASS:PUBLIC
DTSTART:20220326T170000Z
DTSTAMP:20211214T054000Z
END:VEVENT
END:VCALENDAR