BEGIN:VCALENDAR
VERSION:2.0
PRODID:VSD-Portal-www.volley.de
METHOD:PUBLISH
BEGIN:VEVENT
UID:580196-2da69939ed67427dc6bf3daba21059e9
X-WR-RELCALID:580196-2da69939ed67427dc6bf3daba21059e9
ORGANIZER:Volleyball
SEQUENCE:261110435
LOCATION:Sporthalle Liedolsheim, Kirchfeldstraße 30, 76706 Dettenheim
GEO:49.16240000000000000000;8.42040000000000000000
SUMMARY:LL 1 Fr.: VSG Hochstetten-Liedolsheim - SSV MA-Vogelstang 2
CLASS:PUBLIC
DTSTART:20220430T130000Z
DTSTAMP:20220415T070000Z
END:VEVENT
END:VCALENDAR