BEGIN:VCALENDAR
VERSION:2.0
PRODID:VSD-Portal-www.volley.de
METHOD:PUBLISH
BEGIN:VEVENT
UID:568072-2da69939ed67427dc6bf3daba21059e9
X-WR-RELCALID:568072-2da69939ed67427dc6bf3daba21059e9
ORGANIZER:Volleyball
SEQUENCE:261110129
LOCATION:Sporthalle der Selzerbachgrundschule, Karben, Sporthalle der 
 Selzerbachgrundschule, 0  Karben
GEO:50.24177169799805000000;8.72100067138671900000
SUMMARY:M-KL S Fr.: Karbener SV - TV Lieblos 2
CLASS:PUBLIC
DTSTART:20200927T120000Z
DTSTAMP:20200830T155000Z
END:VEVENT
BEGIN:VEVENT
UID:568078-2da69939ed67427dc6bf3daba21059e9
X-WR-RELCALID:568078-2da69939ed67427dc6bf3daba21059e9
ORGANIZER:Volleyball
SEQUENCE:261110129
LOCATION:Großsporthalle Anton-Calaminus-Schule, Gründau-Rothenbergen, 
 Großsporthalle Anton-Calaminus-Schule, 0  Gründau-Rothenbergen
GEO:50.20419692993164000000;9.10763454437255900000
SUMMARY:M-KL S Fr.: TV Lieblos 2 - VGG Gelnhausen 3
CLASS:PUBLIC
DTSTART:20201031T140000Z
DTSTAMP:20200830T155000Z
END:VEVENT
BEGIN:VEVENT
UID:568079-2da69939ed67427dc6bf3daba21059e9
X-WR-RELCALID:568079-2da69939ed67427dc6bf3daba21059e9
ORGANIZER:Volleyball
SEQUENCE:261110129
LOCATION:Großsporthalle Anton-Calaminus-Schule, Gründau-Rothenbergen, 
 Großsporthalle Anton-Calaminus-Schule, 0  Gründau-Rothenbergen
GEO:50.20419692993164000000;9.10763454437255900000
SUMMARY:M-KL S Fr.: TV Lieblos 2 - TV Steinfurth
CLASS:PUBLIC
DTSTART:20201031T140000Z
DTSTAMP:20200830T155000Z
END:VEVENT
BEGIN:VEVENT
UID:568085-2da69939ed67427dc6bf3daba21059e9
X-WR-RELCALID:568085-2da69939ed67427dc6bf3daba21059e9
ORGANIZER:Volleyball
SEQUENCE:261110129
LOCATION:Sporthalle der Kopernikusschule, Freigericht, Sporthalle der 
 Kopernikusschule, 0  Freigericht
GEO:50.13823318481445000000;9.12593841552734400000
SUMMARY:M-KL S Fr.: DJK Freigericht 2 - TV Lieblos 2
CLASS:PUBLIC
DTSTART:20201122T110000Z
DTSTAMP:20200830T155000Z
END:VEVENT
BEGIN:VEVENT
UID:568090-2da69939ed67427dc6bf3daba21059e9
X-WR-RELCALID:568090-2da69939ed67427dc6bf3daba21059e9
ORGANIZER:Volleyball
SEQUENCE:261110129
LOCATION:Großsporthalle Salmünster, Bad Soden-Salmünster, Großsporthal
 le Salmünster, 0  Bad Soden-Salmünster
GEO:50.27733993530273400000;9.37678337097168000000
SUMMARY:M-KL S Fr.: TV Salmünster - TV Lieblos 2
CLASS:PUBLIC
DTSTART:20201129T100000Z
DTSTAMP:20200826T191100Z
END:VEVENT
BEGIN:VEVENT
UID:568092-2da69939ed67427dc6bf3daba21059e9
X-WR-RELCALID:568092-2da69939ed67427dc6bf3daba21059e9
ORGANIZER:Volleyball
SEQUENCE:261110129
LOCATION:Großsporthalle Anton-Calaminus-Schule, Gründau-Rothenbergen, 
 Großsporthalle Anton-Calaminus-Schule, 0  Gründau-Rothenbergen
GEO:50.20419692993164000000;9.10763454437255900000
SUMMARY:M-KL S Fr.: TV Lieblos 2 - TG Groß-Karben
CLASS:PUBLIC
DTSTART:20201212T140000Z
DTSTAMP:20200830T155000Z
END:VEVENT
BEGIN:VEVENT
UID:568093-2da69939ed67427dc6bf3daba21059e9
X-WR-RELCALID:568093-2da69939ed67427dc6bf3daba21059e9
ORGANIZER:Volleyball
SEQUENCE:261110129
LOCATION:Großsporthalle Anton-Calaminus-Schule, Gründau-Rothenbergen, 
 Großsporthalle Anton-Calaminus-Schule, 0  Gründau-Rothenbergen
GEO:50.20419692993164000000;9.10763454437255900000
SUMMARY:M-KL S Fr.: TV Lieblos 2 - SG Rodheim 3
CLASS:PUBLIC
DTSTART:20201212T140000Z
DTSTAMP:20200830T155000Z
END:VEVENT
BEGIN:VEVENT
UID:568099-2da69939ed67427dc6bf3daba21059e9
X-WR-RELCALID:568099-2da69939ed67427dc6bf3daba21059e9
ORGANIZER:Volleyball
SEQUENCE:261110129
LOCATION:Kurt-Schumacher-Schule, Karben, Kurt-Schumacher-Schule, 0  Ka
 rben
GEO:50.23552322387695000000;8.77539062500000000000
SUMMARY:M-KL S Fr.: TG Groß-Karben - TV Lieblos 2
CLASS:PUBLIC
DTSTART:20210117T110000Z
DTSTAMP:20200903T201500Z
END:VEVENT
BEGIN:VEVENT
UID:568104-2da69939ed67427dc6bf3daba21059e9
X-WR-RELCALID:568104-2da69939ed67427dc6bf3daba21059e9
ORGANIZER:Volleyball
SEQUENCE:261110129
LOCATION:Grimmelshausen Gymnasium, Gelnhausen, Grimmelshausen Gymnasiu
 m, 0  Gelnhausen
GEO:50.20280456542969000000;9.18359947204589800000
SUMMARY:M-KL S Fr.: VGG Gelnhausen 3 - TV Lieblos 2
CLASS:PUBLIC
DTSTART:20210214T100000Z
DTSTAMP:20200830T155000Z
END:VEVENT
BEGIN:VEVENT
UID:568113-2da69939ed67427dc6bf3daba21059e9
X-WR-RELCALID:568113-2da69939ed67427dc6bf3daba21059e9
ORGANIZER:Volleyball
SEQUENCE:261110129
LOCATION:Großsporthalle Anton-Calaminus-Schule, Gründau-Rothenbergen, 
 Großsporthalle Anton-Calaminus-Schule, 0  Gründau-Rothenbergen
GEO:50.20419692993164000000;9.10763454437255900000
SUMMARY:M-KL S Fr.: TV Lieblos 2 - TV Steinfurth
CLASS:PUBLIC
DTSTART:20210227T100000Z
DTSTAMP:20200903T201500Z
END:VEVENT
BEGIN:VEVENT
UID:568112-2da69939ed67427dc6bf3daba21059e9
X-WR-RELCALID:568112-2da69939ed67427dc6bf3daba21059e9
ORGANIZER:Volleyball
SEQUENCE:261110129
LOCATION:Großsporthalle Anton-Calaminus-Schule, Gründau-Rothenbergen, 
 Großsporthalle Anton-Calaminus-Schule, 0  Gründau-Rothenbergen
GEO:50.20419692993164000000;9.10763454437255900000
SUMMARY:M-KL S Fr.: TV Lieblos 2 - TV Salmünster
CLASS:PUBLIC
DTSTART:20210228T100000Z
DTSTAMP:20200903T201500Z
END:VEVENT
BEGIN:VEVENT
UID:568118-2da69939ed67427dc6bf3daba21059e9
X-WR-RELCALID:568118-2da69939ed67427dc6bf3daba21059e9
ORGANIZER:Volleyball
SEQUENCE:261110129
LOCATION:Großsporthalle Anton-Calaminus-Schule, Gründau-Rothenbergen, 
 Großsporthalle Anton-Calaminus-Schule, 0  Gründau-Rothenbergen
GEO:50.20419692993164000000;9.10763454437255900000
SUMMARY:M-KL S Fr.: TV Lieblos 2 - DJK Freigericht 2
CLASS:PUBLIC
DTSTART:20210320T140000Z
DTSTAMP:20200830T155000Z
END:VEVENT
BEGIN:VEVENT
UID:568119-2da69939ed67427dc6bf3daba21059e9
X-WR-RELCALID:568119-2da69939ed67427dc6bf3daba21059e9
ORGANIZER:Volleyball
SEQUENCE:261110129
LOCATION:Großsporthalle Anton-Calaminus-Schule, Gründau-Rothenbergen, 
 Großsporthalle Anton-Calaminus-Schule, 0  Gründau-Rothenbergen
GEO:50.20419692993164000000;9.10763454437255900000
SUMMARY:M-KL S Fr.: TV Lieblos 2 - Karbener SV
CLASS:PUBLIC
DTSTART:20210320T140000Z
DTSTAMP:20200830T155000Z
END:VEVENT
BEGIN:VEVENT
UID:568120-2da69939ed67427dc6bf3daba21059e9
X-WR-RELCALID:568120-2da69939ed67427dc6bf3daba21059e9
ORGANIZER:Volleyball
SEQUENCE:261110129
LOCATION:Sportzentrum, Rosbach-Rodheim, Sportzentrum, 0  Rosbach-Rodhe
 im
GEO:50.26254272460937500000;8.70664310455322300000
SUMMARY:M-KL S Fr.: SG Rodheim 3 - TV Lieblos 2
CLASS:PUBLIC
DTSTART:20210327T140000Z
DTSTAMP:20200830T155000Z
END:VEVENT
END:VCALENDAR