BEGIN:VCALENDAR
VERSION:2.0
PRODID:VSD-Portal-www.volley.de
METHOD:PUBLISH
BEGIN:VEVENT
UID:567386-2da69939ed67427dc6bf3daba21059e9
X-WR-RELCALID:567386-2da69939ed67427dc6bf3daba21059e9
ORGANIZER:Volleyball
SEQUENCE:261101747
LOCATION:Geschwister-Scholl-Schule, Frankfurt-Nordweststadt, Geschwist
 er-Scholl-Schule, 0  Frankfurt-Nordweststadt
GEO:50.15182495117187500000;8.63716602325439500000
SUMMARY:W-BL Mä.: TG Römerstadt - TV Bommersheim 3
CLASS:PUBLIC
DTSTART:20210130T140000Z
DTSTAMP:20200919T104500Z
END:VEVENT
END:VCALENDAR