BEGIN:VCALENDAR
VERSION:2.0
PRODID:VSD-Portal-www.volley.de
METHOD:PUBLISH
BEGIN:VEVENT
UID:567368-2da69939ed67427dc6bf3daba21059e9
X-WR-RELCALID:567368-2da69939ed67427dc6bf3daba21059e9
ORGANIZER:Volleyball
SEQUENCE:261122237
LOCATION:Mehrzweckhalle, Wiesbaden-Auringen, Mehrzweckhalle, 0  Wiesba
 den-Auringen
GEO:50.12929916381836000000;8.32962226867675800000
SUMMARY:W-BL Mä.: TG Naurod 2 - TV Bommersheim 3
CLASS:PUBLIC
DTSTART:20200919T130000Z
DTSTAMP:20200904T131500Z
END:VEVENT
BEGIN:VEVENT
UID:567369-2da69939ed67427dc6bf3daba21059e9
X-WR-RELCALID:567369-2da69939ed67427dc6bf3daba21059e9
ORGANIZER:Volleyball
SEQUENCE:261122237
LOCATION:Mehrzweckhalle, Wiesbaden-Auringen, Mehrzweckhalle, 0  Wiesba
 den-Auringen
GEO:50.12929916381836000000;8.32962226867675800000
SUMMARY:W-BL Mä.: TG Naurod 2 - TG Bornheim
CLASS:PUBLIC
DTSTART:20200919T140000Z
DTSTAMP:20200913T195500Z
END:VEVENT
BEGIN:VEVENT
UID:567370-2da69939ed67427dc6bf3daba21059e9
X-WR-RELCALID:567370-2da69939ed67427dc6bf3daba21059e9
ORGANIZER:Volleyball
SEQUENCE:261122237
LOCATION:Erich-Kästner-Schule, Oberursel, Erich-Kästner-Schule, 0  Obe
 rursel
GEO:50.20709228515625000000;8.58969974517822300000
SUMMARY:W-BL Mä.: TV Bommersheim 3 - TG Römerstadt
CLASS:PUBLIC
DTSTART:20200926T130000Z
DTSTAMP:20200913T195500Z
END:VEVENT
BEGIN:VEVENT
UID:567371-2da69939ed67427dc6bf3daba21059e9
X-WR-RELCALID:567371-2da69939ed67427dc6bf3daba21059e9
ORGANIZER:Volleyball
SEQUENCE:261122237
LOCATION:Erich-Kästner-Schule, Oberursel, Erich-Kästner-Schule, 0  Obe
 rursel
GEO:50.20709228515625000000;8.58969974517822300000
SUMMARY:W-BL Mä.: TV Bommersheim 3 - Eintracht Wiesbaden 3
CLASS:PUBLIC
DTSTART:20200926T140000Z
DTSTAMP:20200913T195500Z
END:VEVENT
BEGIN:VEVENT
UID:567374-2da69939ed67427dc6bf3daba21059e9
X-WR-RELCALID:567374-2da69939ed67427dc6bf3daba21059e9
ORGANIZER:Volleyball
SEQUENCE:261122237
LOCATION:TG Bornheim, Frankfurt, TG Bornheim, 0  Frankfurt
GEO:50.13235092163086000000;8.71744346618652300000
SUMMARY:W-BL Mä.: TG Bornheim - TGS Vorwärts Frankfurt
CLASS:PUBLIC
DTSTART:20200927T113000Z
DTSTAMP:20200826T190200Z
END:VEVENT
BEGIN:VEVENT
UID:567375-2da69939ed67427dc6bf3daba21059e9
X-WR-RELCALID:567375-2da69939ed67427dc6bf3daba21059e9
ORGANIZER:Volleyball
SEQUENCE:261122237
LOCATION:TG Bornheim, Frankfurt, TG Bornheim, 0  Frankfurt
GEO:50.13235092163086000000;8.71744346618652300000
SUMMARY:W-BL Mä.: TG Bornheim - TG Naurod 2
CLASS:PUBLIC
DTSTART:20200927T123000Z
DTSTAMP:20200826T190200Z
END:VEVENT
BEGIN:VEVENT
UID:567372-2da69939ed67427dc6bf3daba21059e9
X-WR-RELCALID:567372-2da69939ed67427dc6bf3daba21059e9
ORGANIZER:Volleyball
SEQUENCE:261122237
LOCATION:Geschwister-Scholl-Schule, Frankfurt-Nordweststadt, Geschwist
 er-Scholl-Schule, 0  Frankfurt-Nordweststadt
GEO:50.15182495117187500000;8.63716602325439500000
SUMMARY:W-BL Mä.: TG Römerstadt - TG Bornheim
CLASS:PUBLIC
DTSTART:20201031T140000Z
DTSTAMP:20200919T104500Z
END:VEVENT
BEGIN:VEVENT
UID:567373-2da69939ed67427dc6bf3daba21059e9
X-WR-RELCALID:567373-2da69939ed67427dc6bf3daba21059e9
ORGANIZER:Volleyball
SEQUENCE:261122237
LOCATION:Geschwister-Scholl-Schule, Frankfurt-Nordweststadt, Geschwist
 er-Scholl-Schule, 0  Frankfurt-Nordweststadt
GEO:50.15182495117187500000;8.63716602325439500000
SUMMARY:W-BL Mä.: TG Römerstadt - Eintracht Wiesbaden 3
CLASS:PUBLIC
DTSTART:20201031T150000Z
DTSTAMP:20200919T104500Z
END:VEVENT
BEGIN:VEVENT
UID:567376-2da69939ed67427dc6bf3daba21059e9
X-WR-RELCALID:567376-2da69939ed67427dc6bf3daba21059e9
ORGANIZER:Volleyball
SEQUENCE:261122237
LOCATION:Halle am Platz der Deutschen Einheit, Wiesbaden, Halle am Pla
 tz der Deutschen Einheit, 0  Wiesbaden
GEO:50.08055496215820000000;8.23527812957763700000
SUMMARY:W-BL Mä.: Eintracht Wiesbaden 3 - TG Naurod 2
CLASS:PUBLIC
DTSTART:20201115T100000Z
DTSTAMP:20200913T195500Z
END:VEVENT
BEGIN:VEVENT
UID:567377-2da69939ed67427dc6bf3daba21059e9
X-WR-RELCALID:567377-2da69939ed67427dc6bf3daba21059e9
ORGANIZER:Volleyball
SEQUENCE:261122237
LOCATION:Halle am Platz der Deutschen Einheit, Wiesbaden, Halle am Pla
 tz der Deutschen Einheit, 0  Wiesbaden
GEO:50.08055496215820000000;8.23527812957763700000
SUMMARY:W-BL Mä.: Eintracht Wiesbaden 3 - TGS Vorwärts Frankfurt
CLASS:PUBLIC
DTSTART:20201115T110000Z
DTSTAMP:20200913T195500Z
END:VEVENT
BEGIN:VEVENT
UID:567378-2da69939ed67427dc6bf3daba21059e9
X-WR-RELCALID:567378-2da69939ed67427dc6bf3daba21059e9
ORGANIZER:Volleyball
SEQUENCE:261122237
LOCATION:Michael-Ende-Schule, Frankfurt, Michael-Ende-Schule, 0  Frank
 furt
GEO:50.12825775146484400000;8.61154365539550800000
SUMMARY:W-BL Mä.: TGS Vorwärts Frankfurt - TG Naurod 2
CLASS:PUBLIC
DTSTART:20201121T143000Z
DTSTAMP:20200919T174500Z
END:VEVENT
BEGIN:VEVENT
UID:567379-2da69939ed67427dc6bf3daba21059e9
X-WR-RELCALID:567379-2da69939ed67427dc6bf3daba21059e9
ORGANIZER:Volleyball
SEQUENCE:261122237
LOCATION:Michael-Ende-Schule, Frankfurt, Michael-Ende-Schule, 0  Frank
 furt
GEO:50.12825775146484400000;8.61154365539550800000
SUMMARY:W-BL Mä.: TGS Vorwärts Frankfurt - TV Bommersheim 3
CLASS:PUBLIC
DTSTART:20201121T153000Z
DTSTAMP:20200919T174500Z
END:VEVENT
BEGIN:VEVENT
UID:567382-2da69939ed67427dc6bf3daba21059e9
X-WR-RELCALID:567382-2da69939ed67427dc6bf3daba21059e9
ORGANIZER:Volleyball
SEQUENCE:261122237
LOCATION:Geschwister-Scholl-Schule, Frankfurt-Nordweststadt, Geschwist
 er-Scholl-Schule, 0  Frankfurt-Nordweststadt
GEO:50.15182495117187500000;8.63716602325439500000
SUMMARY:W-BL Mä.: TG Römerstadt - TG Naurod 2
CLASS:PUBLIC
DTSTART:20201128T140000Z
DTSTAMP:20200919T104500Z
END:VEVENT
BEGIN:VEVENT
UID:567383-2da69939ed67427dc6bf3daba21059e9
X-WR-RELCALID:567383-2da69939ed67427dc6bf3daba21059e9
ORGANIZER:Volleyball
SEQUENCE:261122237
LOCATION:Geschwister-Scholl-Schule, Frankfurt-Nordweststadt, Geschwist
 er-Scholl-Schule, 0  Frankfurt-Nordweststadt
GEO:50.15182495117187500000;8.63716602325439500000
SUMMARY:W-BL Mä.: TG Römerstadt - TGS Vorwärts Frankfurt
CLASS:PUBLIC
DTSTART:20201128T150000Z
DTSTAMP:20200919T104500Z
END:VEVENT
BEGIN:VEVENT
UID:567380-2da69939ed67427dc6bf3daba21059e9
X-WR-RELCALID:567380-2da69939ed67427dc6bf3daba21059e9
ORGANIZER:Volleyball
SEQUENCE:261122237
LOCATION:TG Bornheim, Frankfurt, TG Bornheim, 0  Frankfurt
GEO:50.13235092163086000000;8.71744346618652300000
SUMMARY:W-BL Mä.: TG Bornheim - Eintracht Wiesbaden 3
CLASS:PUBLIC
DTSTART:20201129T123000Z
DTSTAMP:20200913T195500Z
END:VEVENT
BEGIN:VEVENT
UID:567381-2da69939ed67427dc6bf3daba21059e9
X-WR-RELCALID:567381-2da69939ed67427dc6bf3daba21059e9
ORGANIZER:Volleyball
SEQUENCE:261122237
LOCATION:TG Bornheim, Frankfurt, TG Bornheim, 0  Frankfurt
GEO:50.13235092163086000000;8.71744346618652300000
SUMMARY:W-BL Mä.: TG Bornheim - TV Bommersheim 3
CLASS:PUBLIC
DTSTART:20201129T133000Z
DTSTAMP:20200913T195500Z
END:VEVENT
BEGIN:VEVENT
UID:567384-2da69939ed67427dc6bf3daba21059e9
X-WR-RELCALID:567384-2da69939ed67427dc6bf3daba21059e9
ORGANIZER:Volleyball
SEQUENCE:261122237
LOCATION:Diltheyschule, Wiesbaden, Diltheyschule, 0  Wiesbaden
GEO:50.08361053466797000000;8.22076988220214800000
SUMMARY:W-BL Mä.: TG Naurod 2 - TG Römerstadt
CLASS:PUBLIC
DTSTART:20210116T143000Z
DTSTAMP:20200919T104500Z
END:VEVENT
BEGIN:VEVENT
UID:567385-2da69939ed67427dc6bf3daba21059e9
X-WR-RELCALID:567385-2da69939ed67427dc6bf3daba21059e9
ORGANIZER:Volleyball
SEQUENCE:261122237
LOCATION:Diltheyschule, Wiesbaden, Diltheyschule, 0  Wiesbaden
GEO:50.08361053466797000000;8.22076988220214800000
SUMMARY:W-BL Mä.: TG Naurod 2 - TGS Vorwärts Frankfurt
CLASS:PUBLIC
DTSTART:20210116T153000Z
DTSTAMP:20200919T104500Z
END:VEVENT
BEGIN:VEVENT
UID:567386-2da69939ed67427dc6bf3daba21059e9
X-WR-RELCALID:567386-2da69939ed67427dc6bf3daba21059e9
ORGANIZER:Volleyball
SEQUENCE:261122237
LOCATION:Geschwister-Scholl-Schule, Frankfurt-Nordweststadt, Geschwist
 er-Scholl-Schule, 0  Frankfurt-Nordweststadt
GEO:50.15182495117187500000;8.63716602325439500000
SUMMARY:W-BL Mä.: TG Römerstadt - TV Bommersheim 3
CLASS:PUBLIC
DTSTART:20210130T140000Z
DTSTAMP:20200919T104500Z
END:VEVENT
BEGIN:VEVENT
UID:567387-2da69939ed67427dc6bf3daba21059e9
X-WR-RELCALID:567387-2da69939ed67427dc6bf3daba21059e9
ORGANIZER:Volleyball
SEQUENCE:261122237
LOCATION:Geschwister-Scholl-Schule, Frankfurt-Nordweststadt, Geschwist
 er-Scholl-Schule, 0  Frankfurt-Nordweststadt
GEO:50.15182495117187500000;8.63716602325439500000
SUMMARY:W-BL Mä.: TG Römerstadt - Eintracht Wiesbaden 3
CLASS:PUBLIC
DTSTART:20210130T150000Z
DTSTAMP:20200919T104500Z
END:VEVENT
BEGIN:VEVENT
UID:567388-2da69939ed67427dc6bf3daba21059e9
X-WR-RELCALID:567388-2da69939ed67427dc6bf3daba21059e9
ORGANIZER:Volleyball
SEQUENCE:261122237
LOCATION:TG Bornheim, Frankfurt, TG Bornheim, 0  Frankfurt
GEO:50.13235092163086000000;8.71744346618652300000
SUMMARY:W-BL Mä.: TG Bornheim - TG Römerstadt
CLASS:PUBLIC
DTSTART:20210214T123000Z
DTSTAMP:20200913T195500Z
END:VEVENT
BEGIN:VEVENT
UID:567389-2da69939ed67427dc6bf3daba21059e9
X-WR-RELCALID:567389-2da69939ed67427dc6bf3daba21059e9
ORGANIZER:Volleyball
SEQUENCE:261122237
LOCATION:TG Bornheim, Frankfurt, TG Bornheim, 0  Frankfurt
GEO:50.13235092163086000000;8.71744346618652300000
SUMMARY:W-BL Mä.: TG Bornheim - Eintracht Wiesbaden 3
CLASS:PUBLIC
DTSTART:20210214T133000Z
DTSTAMP:20200913T195500Z
END:VEVENT
BEGIN:VEVENT
UID:567390-2da69939ed67427dc6bf3daba21059e9
X-WR-RELCALID:567390-2da69939ed67427dc6bf3daba21059e9
ORGANIZER:Volleyball
SEQUENCE:261122237
LOCATION:Michael-Ende-Schule, Frankfurt, Michael-Ende-Schule, 0  Frank
 furt
GEO:50.12825775146484400000;8.61154365539550800000
SUMMARY:W-BL Mä.: TGS Vorwärts Frankfurt - TG Römerstadt
CLASS:PUBLIC
DTSTART:20210221T153000Z
DTSTAMP:20200919T174500Z
END:VEVENT
BEGIN:VEVENT
UID:567391-2da69939ed67427dc6bf3daba21059e9
X-WR-RELCALID:567391-2da69939ed67427dc6bf3daba21059e9
ORGANIZER:Volleyball
SEQUENCE:261122237
LOCATION:Michael-Ende-Schule, Frankfurt, Michael-Ende-Schule, 0  Frank
 furt
GEO:50.12825775146484400000;8.61154365539550800000
SUMMARY:W-BL Mä.: TGS Vorwärts Frankfurt - TG Bornheim
CLASS:PUBLIC
DTSTART:20210221T163000Z
DTSTAMP:20200919T174500Z
END:VEVENT
BEGIN:VEVENT
UID:567392-2da69939ed67427dc6bf3daba21059e9
X-WR-RELCALID:567392-2da69939ed67427dc6bf3daba21059e9
ORGANIZER:Volleyball
SEQUENCE:261122237
LOCATION:Michael-Ende-Schule, Frankfurt, Michael-Ende-Schule, 0  Frank
 furt
GEO:50.12825775146484400000;8.61154365539550800000
SUMMARY:W-BL Mä.: TGS Vorwärts Frankfurt - Eintracht Wiesbaden 3
CLASS:PUBLIC
DTSTART:20210228T143000Z
DTSTAMP:20200919T174500Z
END:VEVENT
BEGIN:VEVENT
UID:567393-2da69939ed67427dc6bf3daba21059e9
X-WR-RELCALID:567393-2da69939ed67427dc6bf3daba21059e9
ORGANIZER:Volleyball
SEQUENCE:261122237
LOCATION:Michael-Ende-Schule, Frankfurt, Michael-Ende-Schule, 0  Frank
 furt
GEO:50.12825775146484400000;8.61154365539550800000
SUMMARY:W-BL Mä.: TGS Vorwärts Frankfurt - TV Bommersheim 3
CLASS:PUBLIC
DTSTART:20210228T153000Z
DTSTAMP:20200919T174500Z
END:VEVENT
BEGIN:VEVENT
UID:567394-2da69939ed67427dc6bf3daba21059e9
X-WR-RELCALID:567394-2da69939ed67427dc6bf3daba21059e9
ORGANIZER:Volleyball
SEQUENCE:261122237
LOCATION:Halle am 2. Ring, Wiesbaden, Halle am 2. Ring, 0  Wiesbaden
GEO:50.06490707397461000000;8.23393154144287100000
SUMMARY:W-BL Mä.: Eintracht Wiesbaden 3 - TG Naurod 2
CLASS:PUBLIC
DTSTART:20210321T100000Z
DTSTAMP:20200913T195500Z
END:VEVENT
BEGIN:VEVENT
UID:567395-2da69939ed67427dc6bf3daba21059e9
X-WR-RELCALID:567395-2da69939ed67427dc6bf3daba21059e9
ORGANIZER:Volleyball
SEQUENCE:261122237
LOCATION:Halle am 2. Ring, Wiesbaden, Halle am 2. Ring, 0  Wiesbaden
GEO:50.06490707397461000000;8.23393154144287100000
SUMMARY:W-BL Mä.: Eintracht Wiesbaden 3 - TV Bommersheim 3
CLASS:PUBLIC
DTSTART:20210321T110000Z
DTSTAMP:20200913T195500Z
END:VEVENT
BEGIN:VEVENT
UID:567396-2da69939ed67427dc6bf3daba21059e9
X-WR-RELCALID:567396-2da69939ed67427dc6bf3daba21059e9
ORGANIZER:Volleyball
SEQUENCE:261122237
LOCATION:Erich-Kästner-Schule, Oberursel, Erich-Kästner-Schule, 0  Obe
 rursel
GEO:50.20709228515625000000;8.58969974517822300000
SUMMARY:W-BL Mä.: TV Bommersheim 3 - TG Naurod 2
CLASS:PUBLIC
DTSTART:20210327T141500Z
DTSTAMP:20200913T195500Z
END:VEVENT
BEGIN:VEVENT
UID:567397-2da69939ed67427dc6bf3daba21059e9
X-WR-RELCALID:567397-2da69939ed67427dc6bf3daba21059e9
ORGANIZER:Volleyball
SEQUENCE:261122237
LOCATION:Erich-Kästner-Schule, Oberursel, Erich-Kästner-Schule, 0  Obe
 rursel
GEO:50.20709228515625000000;8.58969974517822300000
SUMMARY:W-BL Mä.: TV Bommersheim 3 - TG Bornheim
CLASS:PUBLIC
DTSTART:20210327T151500Z
DTSTAMP:20200913T195500Z
END:VEVENT
END:VCALENDAR