BEGIN:VCALENDAR
VERSION:2.0
PRODID:VSD-Portal-www.volley.de
METHOD:PUBLISH
BEGIN:VEVENT
UID:569161-2da69939ed67427dc6bf3daba21059e9
X-WR-RELCALID:569161-2da69939ed67427dc6bf3daba21059e9
ORGANIZER:Volleyball
SEQUENCE:261150512
LOCATION:179, Hohenschönhausen, 179, 0  Hohenschönhausen
GEO:52.54856109619140600000;13.50849342346191400000
SUMMARY:KL Mä.: SV Preußen Berlin III - Rotation Prenzlauer Berg V
CLASS:PUBLIC
DTSTART:20200912T145900Z
DTSTAMP:20200925T191500Z
END:VEVENT
BEGIN:VEVENT
UID:569162-2da69939ed67427dc6bf3daba21059e9
X-WR-RELCALID:569162-2da69939ed67427dc6bf3daba21059e9
ORGANIZER:Volleyball
SEQUENCE:261150512
LOCATION:179, Hohenschönhausen, 179, 0  Hohenschönhausen
GEO:52.54856109619140600000;13.50849342346191400000
SUMMARY:KL Mä.: SV Preußen Berlin III - SC Charlottenburg IV
CLASS:PUBLIC
DTSTART:20200912T165000Z
DTSTAMP:20200925T191500Z
END:VEVENT
BEGIN:VEVENT
UID:569178-2da69939ed67427dc6bf3daba21059e9
X-WR-RELCALID:569178-2da69939ed67427dc6bf3daba21059e9
ORGANIZER:Volleyball
SEQUENCE:261150512
LOCATION:227, Hohenschönhausen, 227, 0  Hohenschönhausen
GEO:52.54856109619140600000;13.50849342346191400000
SUMMARY:KL Mä.: SV Preußen Berlin III - VfK Berlin-Südwest III
CLASS:PUBLIC
DTSTART:20201004T084500Z
DTSTAMP:20201008T173000Z
END:VEVENT
BEGIN:VEVENT
UID:569179-2da69939ed67427dc6bf3daba21059e9
X-WR-RELCALID:569179-2da69939ed67427dc6bf3daba21059e9
ORGANIZER:Volleyball
SEQUENCE:261150512
LOCATION:227, Hohenschönhausen, 227, 0  Hohenschönhausen
GEO:52.54856109619140600000;13.50849342346191400000
SUMMARY:KL Mä.: SV Preußen Berlin III - SC Charlottenburg IV
CLASS:PUBLIC
DTSTART:20201004T103400Z
DTSTAMP:20201008T173000Z
END:VEVENT
BEGIN:VEVENT
UID:569183-2da69939ed67427dc6bf3daba21059e9
X-WR-RELCALID:569183-2da69939ed67427dc6bf3daba21059e9
ORGANIZER:Volleyball
SEQUENCE:261150512
LOCATION:156, Tempelhof, 156, 0  Tempelhof
GEO:52.46949386596680000000;13.38560009002685500000
SUMMARY:KL Mä.: SV Preußen Berlin III - DJK Westen III
CLASS:PUBLIC
DTSTART:20201107T130000Z
DTSTAMP:20200910T114500Z
END:VEVENT
BEGIN:VEVENT
UID:569201-2da69939ed67427dc6bf3daba21059e9
X-WR-RELCALID:569201-2da69939ed67427dc6bf3daba21059e9
ORGANIZER:Volleyball
SEQUENCE:261150512
LOCATION:156, Tempelhof, 156, 0  Tempelhof
GEO:52.46949386596680000000;13.38560009002685500000
SUMMARY:KL Mä.: SV Preußen Berlin III - Rotation Prenzlauer Berg V
CLASS:PUBLIC
DTSTART:20201205T130000Z
DTSTAMP:20200910T114500Z
END:VEVENT
BEGIN:VEVENT
UID:569219-2da69939ed67427dc6bf3daba21059e9
X-WR-RELCALID:569219-2da69939ed67427dc6bf3daba21059e9
ORGANIZER:Volleyball
SEQUENCE:261150512
LOCATION:24, Lichterfelde, 24, 0  Lichterfelde
GEO:52.43139266967773400000;13.30967330932617200000
SUMMARY:KL Mä.: SV Preußen Berlin III - SC Charlottenburg III
CLASS:PUBLIC
DTSTART:20210116T110000Z
DTSTAMP:20200910T114500Z
END:VEVENT
BEGIN:VEVENT
UID:569234-2da69939ed67427dc6bf3daba21059e9
X-WR-RELCALID:569234-2da69939ed67427dc6bf3daba21059e9
ORGANIZER:Volleyball
SEQUENCE:261150512
LOCATION:175, Marzahn, 175, 0  Marzahn
GEO:52.54465103149414000000;13.56464290618896500000
SUMMARY:KL Mä.: SV Preußen Berlin III - TSV Tempelhof/Mariendorf II
CLASS:PUBLIC
DTSTART:20210307T080000Z
DTSTAMP:20200910T114500Z
END:VEVENT
BEGIN:VEVENT
UID:569247-2da69939ed67427dc6bf3daba21059e9
X-WR-RELCALID:569247-2da69939ed67427dc6bf3daba21059e9
ORGANIZER:Volleyball
SEQUENCE:261150512
LOCATION:179, Hohenschönhausen, 179, 0  Hohenschönhausen
GEO:52.54856109619140600000;13.50849342346191400000
SUMMARY:KL Mä.: SV Preußen Berlin III - Rotation Prenzlauer Berg VI
CLASS:PUBLIC
DTSTART:20210321T090000Z
DTSTAMP:20200910T114500Z
END:VEVENT
BEGIN:VEVENT
UID:569248-2da69939ed67427dc6bf3daba21059e9
X-WR-RELCALID:569248-2da69939ed67427dc6bf3daba21059e9
ORGANIZER:Volleyball
SEQUENCE:261150512
LOCATION:179, Hohenschönhausen, 179, 0  Hohenschönhausen
GEO:52.54856109619140600000;13.50849342346191400000
SUMMARY:KL Mä.: SV Preußen Berlin III - Füchse Berlin III
CLASS:PUBLIC
DTSTART:20210321T090000Z
DTSTAMP:20200910T114500Z
END:VEVENT
BEGIN:VEVENT
UID:569261-2da69939ed67427dc6bf3daba21059e9
X-WR-RELCALID:569261-2da69939ed67427dc6bf3daba21059e9
ORGANIZER:Volleyball
SEQUENCE:261150512
LOCATION:237, Mariendorf, 237, 0  Mariendorf
GEO:52.44019317626953000000;13.38732242584228500000
SUMMARY:KL Mä.: SV Preußen Berlin III - DJK Westen III
CLASS:PUBLIC
DTSTART:20210424T120000Z
DTSTAMP:20200910T114500Z
END:VEVENT
BEGIN:VEVENT
UID:569262-2da69939ed67427dc6bf3daba21059e9
X-WR-RELCALID:569262-2da69939ed67427dc6bf3daba21059e9
ORGANIZER:Volleyball
SEQUENCE:261150512
LOCATION:237, Mariendorf, 237, 0  Mariendorf
GEO:52.44019317626953000000;13.38732242584228500000
SUMMARY:KL Mä.: SV Preußen Berlin III - MTV Mariendorf I
CLASS:PUBLIC
DTSTART:20210424T120000Z
DTSTAMP:20200910T114500Z
END:VEVENT
END:VCALENDAR