BEGIN:VCALENDAR
VERSION:2.0
PRODID:VSD-Portal-www.volley.de
METHOD:PUBLISH
BEGIN:VEVENT
UID:569154-2da69939ed67427dc6bf3daba21059e9
X-WR-RELCALID:569154-2da69939ed67427dc6bf3daba21059e9
ORGANIZER:Volleyball
SEQUENCE:261102112
LOCATION:151, Lichtenrade, 151, 0  Lichtenrade
GEO:52.39849472045898400000;13.40646171569824200000
SUMMARY:KL B Fr.: TSV Rudow V - VC Rotation Mitte V
CLASS:PUBLIC
DTSTART:20210314T090000Z
DTSTAMP:20200911T104500Z
END:VEVENT
END:VCALENDAR