BEGIN:VCALENDAR
VERSION:2.0
PRODID:VSD-Portal-www.volley.de
METHOD:PUBLISH
BEGIN:VEVENT
UID:569151-2da69939ed67427dc6bf3daba21059e9
X-WR-RELCALID:569151-2da69939ed67427dc6bf3daba21059e9
ORGANIZER:Volleyball
SEQUENCE:261102116
LOCATION:144, Marzahn, 144, 0  Marzahn
GEO:52.54465103149414000000;13.56464290618896500000
SUMMARY:KL B Fr.: Sportfreunde Kladow - Füchse Berlin III
CLASS:PUBLIC
DTSTART:20210314T090000Z
DTSTAMP:20200911T104500Z
END:VEVENT
END:VCALENDAR