BEGIN:VCALENDAR
VERSION:2.0
PRODID:VSD-Portal-www.volley.de
METHOD:PUBLISH
BEGIN:VEVENT
UID:569148-2da69939ed67427dc6bf3daba21059e9
X-WR-RELCALID:569148-2da69939ed67427dc6bf3daba21059e9
ORGANIZER:Volleyball
SEQUENCE:261102114
LOCATION:156, Tempelhof, 156, 0  Tempelhof
GEO:52.46949386596680000000;13.38560009002685500000
SUMMARY:KL B Fr.: Charlottenburger TSV 58 III - VfK Berlin-Südwest V
CLASS:PUBLIC
DTSTART:20210314T090000Z
DTSTAMP:20200911T104500Z
END:VEVENT
END:VCALENDAR