BEGIN:VCALENDAR
VERSION:2.0
PRODID:VSD-Portal-www.volley.de
METHOD:PUBLISH
BEGIN:VEVENT
UID:562703-2da69939ed67427dc6bf3daba21059e9
X-WR-RELCALID:562703-2da69939ed67427dc6bf3daba21059e9
ORGANIZER:Volleyball
SEQUENCE:261152214
LOCATION:Sporthalle Krondorf (H.-Heine-Gymnasium), Bitterfeld-Wolfen, 
 Sporthalle Krondorf (H.-Heine-Gymnasium), 0  Bitterfeld-Wolfen
GEO:51.66759490966797000000;12.24815177917480500000
SUMMARY:OL Mä.: VC Bitterfeld-Wolfen e.V. II - LSG Klobikau-Milzau
CLASS:PUBLIC
DTSTART:20200926T110000Z
DTSTAMP:20200824T160000Z
END:VEVENT
BEGIN:VEVENT
UID:562712-2da69939ed67427dc6bf3daba21059e9
X-WR-RELCALID:562712-2da69939ed67427dc6bf3daba21059e9
ORGANIZER:Volleyball
SEQUENCE:261152214
LOCATION:Willi-Friedrich-Halle, Gardelegen, Willi-Friedrich-Halle, 0  
 Gardelegen
GEO:52.53155517578125000000;11.40620613098144500000
SUMMARY:OL Mä.: Altmark Volleys - VC Bitterfeld-Wolfen e.V. II
CLASS:PUBLIC
DTSTART:20201004T130000Z
DTSTAMP:20201013T150000Z
END:VEVENT
BEGIN:VEVENT
UID:562714-2da69939ed67427dc6bf3daba21059e9
X-WR-RELCALID:562714-2da69939ed67427dc6bf3daba21059e9
ORGANIZER:Volleyball
SEQUENCE:261152214
LOCATION:Sporthalle Krondorf (H.-Heine-Gymnasium), Bitterfeld-Wolfen, 
 Sporthalle Krondorf (H.-Heine-Gymnasium), 0  Bitterfeld-Wolfen
GEO:51.66759490966797000000;12.24815177917480500000
SUMMARY:OL Mä.: VC Bitterfeld-Wolfen e.V. II - MTV Wittenberg
CLASS:PUBLIC
DTSTART:20201011T090000Z
DTSTAMP:20200824T160000Z
END:VEVENT
BEGIN:VEVENT
UID:562721-2da69939ed67427dc6bf3daba21059e9
X-WR-RELCALID:562721-2da69939ed67427dc6bf3daba21059e9
ORGANIZER:Volleyball
SEQUENCE:261152214
LOCATION:Wolterstorff-Halle, Ballenstedt, Wolterstorff-Halle, 0  Balle
 nstedt
GEO:51.71759033203125000000;11.22480010986328100000
SUMMARY:OL Mä.: SV Fortuna Ballenstedt - VC Bitterfeld-Wolfen e.V. II
CLASS:PUBLIC
DTSTART:20201024T160000Z
DTSTAMP:20200824T160000Z
END:VEVENT
BEGIN:VEVENT
UID:562727-2da69939ed67427dc6bf3daba21059e9
X-WR-RELCALID:562727-2da69939ed67427dc6bf3daba21059e9
ORGANIZER:Volleyball
SEQUENCE:261152214
LOCATION:Jahrhunderthalle Spergau, Leuna OT Spergau, Jahrhunderthalle 
 Spergau, 0  Leuna OT Spergau
GEO:51.31592559814453000000;12.03568267822265600000
SUMMARY:OL Mä.: CV Mitteldeutschland  II - VC Bitterfeld-Wolfen e.V. I
 I
CLASS:PUBLIC
DTSTART:20201101T140000Z
DTSTAMP:20200924T044000Z
END:VEVENT
BEGIN:VEVENT
UID:562733-2da69939ed67427dc6bf3daba21059e9
X-WR-RELCALID:562733-2da69939ed67427dc6bf3daba21059e9
ORGANIZER:Volleyball
SEQUENCE:261152214
LOCATION:TH Geschwister-Scholl-Gymnasium, Magdeburg, TH Geschwister-Sc
 holl-Gymnasium, 0  Magdeburg
GEO:52.09035873413086000000;11.60801029205322300000
SUMMARY:OL Mä.: WSG Reform Magdeburg II - VC Bitterfeld-Wolfen e.V. II
 
CLASS:PUBLIC
DTSTART:20201108T100000Z
DTSTAMP:20200824T160000Z
END:VEVENT
BEGIN:VEVENT
UID:562737-2da69939ed67427dc6bf3daba21059e9
X-WR-RELCALID:562737-2da69939ed67427dc6bf3daba21059e9
ORGANIZER:Volleyball
SEQUENCE:261152214
LOCATION:Sporthalle Krondorf (H.-Heine-Gymnasium), Bitterfeld-Wolfen, 
 Sporthalle Krondorf (H.-Heine-Gymnasium), 0  Bitterfeld-Wolfen
GEO:51.66759490966797000000;12.24815177917480500000
SUMMARY:OL Mä.: VC Bitterfeld-Wolfen e.V. II - WSG Reform Magdeburg
CLASS:PUBLIC
DTSTART:20201114T120000Z
DTSTAMP:20200824T160000Z
END:VEVENT
BEGIN:VEVENT
UID:562741-2da69939ed67427dc6bf3daba21059e9
X-WR-RELCALID:562741-2da69939ed67427dc6bf3daba21059e9
ORGANIZER:Volleyball
SEQUENCE:261152214
LOCATION:TH Geschwister-Scholl-Gymnasium, Magdeburg, TH Geschwister-Sc
 holl-Gymnasium, 0  Magdeburg
GEO:52.09035873413086000000;11.60801029205322300000
SUMMARY:OL Mä.: WSG Reform Magdeburg - VC Bitterfeld-Wolfen e.V. II
CLASS:PUBLIC
DTSTART:20201121T130000Z
DTSTAMP:20200824T160000Z
END:VEVENT
BEGIN:VEVENT
UID:562748-2da69939ed67427dc6bf3daba21059e9
X-WR-RELCALID:562748-2da69939ed67427dc6bf3daba21059e9
ORGANIZER:Volleyball
SEQUENCE:261152214
LOCATION:Sporthalle Krondorf (H.-Heine-Gymnasium), Bitterfeld-Wolfen, 
 Sporthalle Krondorf (H.-Heine-Gymnasium), 0  Bitterfeld-Wolfen
GEO:51.66759490966797000000;12.24815177917480500000
SUMMARY:OL Mä.: VC Bitterfeld-Wolfen e.V. II - Magdeburger LV Einheit
CLASS:PUBLIC
DTSTART:20201129T100000Z
DTSTAMP:20200824T160000Z
END:VEVENT
BEGIN:VEVENT
UID:562751-2da69939ed67427dc6bf3daba21059e9
X-WR-RELCALID:562751-2da69939ed67427dc6bf3daba21059e9
ORGANIZER:Volleyball
SEQUENCE:261152214
LOCATION:Sekundarschule Ciervisti, Zerbst, Sekundarschule Ciervisti, 0
   Zerbst
GEO:51.96686935424805000000;12.09167003631591800000
SUMMARY:OL Mä.: SG 1990 Lindau - VC Bitterfeld-Wolfen e.V. II
CLASS:PUBLIC
DTSTART:20201205T100000Z
DTSTAMP:20200824T160000Z
END:VEVENT
BEGIN:VEVENT
UID:562758-2da69939ed67427dc6bf3daba21059e9
X-WR-RELCALID:562758-2da69939ed67427dc6bf3daba21059e9
ORGANIZER:Volleyball
SEQUENCE:261152214
LOCATION:TH Grundschule Ziebigk, Dessau-Roßlau, TH Grundschule Ziebigk
 , 0  Dessau-Roßlau
GEO:51.84518814086914000000;12.21544647216796900000
SUMMARY:OL Mä.: VVSA-LA (PSV Dessau) - VC Bitterfeld-Wolfen e.V. II
CLASS:PUBLIC
DTSTART:20210109T133000Z
DTSTAMP:20200915T232000Z
END:VEVENT
BEGIN:VEVENT
UID:562762-2da69939ed67427dc6bf3daba21059e9
X-WR-RELCALID:562762-2da69939ed67427dc6bf3daba21059e9
ORGANIZER:Volleyball
SEQUENCE:261152214
LOCATION:Germania Sporthalle Schafstädt, Bad Lauchstädt/ OT Schafstädt
 , Germania Sporthalle Schafstädt, 0  Bad Lauchstädt/ OT Schafstädt
GEO:51.37888717651367000000;11.77127933502197300000
SUMMARY:OL Mä.: LSG Klobikau-Milzau - VC Bitterfeld-Wolfen e.V. II
CLASS:PUBLIC
DTSTART:20210110T140000Z
DTSTAMP:20200824T160000Z
END:VEVENT
BEGIN:VEVENT
UID:562763-2da69939ed67427dc6bf3daba21059e9
X-WR-RELCALID:562763-2da69939ed67427dc6bf3daba21059e9
ORGANIZER:Volleyball
SEQUENCE:261152214
SUMMARY:OL Mä.: MTV Wittenberg - VC Bitterfeld-Wolfen e.V. II
CLASS:PUBLIC
DTSTART:20210116T170000Z
DTSTAMP:20200824T160000Z
END:VEVENT
BEGIN:VEVENT
UID:562769-2da69939ed67427dc6bf3daba21059e9
X-WR-RELCALID:562769-2da69939ed67427dc6bf3daba21059e9
ORGANIZER:Volleyball
SEQUENCE:261152214
LOCATION:Sporthalle Krondorf (H.-Heine-Gymnasium), Bitterfeld-Wolfen, 
 Sporthalle Krondorf (H.-Heine-Gymnasium), 0  Bitterfeld-Wolfen
GEO:51.66759490966797000000;12.24815177917480500000
SUMMARY:OL Mä.: VC Bitterfeld-Wolfen e.V. II - Altmark Volleys
CLASS:PUBLIC
DTSTART:20210123T090000Z
DTSTAMP:20200824T160000Z
END:VEVENT
BEGIN:VEVENT
UID:562770-2da69939ed67427dc6bf3daba21059e9
X-WR-RELCALID:562770-2da69939ed67427dc6bf3daba21059e9
ORGANIZER:Volleyball
SEQUENCE:261152214
LOCATION:Sporthalle Krondorf (H.-Heine-Gymnasium), Bitterfeld-Wolfen, 
 Sporthalle Krondorf (H.-Heine-Gymnasium), 0  Bitterfeld-Wolfen
GEO:51.66759490966797000000;12.24815177917480500000
SUMMARY:OL Mä.: VC Bitterfeld-Wolfen e.V. II - VVSA-LA (PSV Dessau)
CLASS:PUBLIC
DTSTART:20210123T133000Z
DTSTAMP:20200824T160000Z
END:VEVENT
BEGIN:VEVENT
UID:562777-2da69939ed67427dc6bf3daba21059e9
X-WR-RELCALID:562777-2da69939ed67427dc6bf3daba21059e9
ORGANIZER:Volleyball
SEQUENCE:261152214
LOCATION:Sporthalle Krondorf (H.-Heine-Gymnasium), Bitterfeld-Wolfen, 
 Sporthalle Krondorf (H.-Heine-Gymnasium), 0  Bitterfeld-Wolfen
GEO:51.66759490966797000000;12.24815177917480500000
SUMMARY:OL Mä.: VC Bitterfeld-Wolfen e.V. II - CV Mitteldeutschland  I
 I
CLASS:PUBLIC
DTSTART:20210131T100000Z
DTSTAMP:20200824T160000Z
END:VEVENT
BEGIN:VEVENT
UID:562781-2da69939ed67427dc6bf3daba21059e9
X-WR-RELCALID:562781-2da69939ed67427dc6bf3daba21059e9
ORGANIZER:Volleyball
SEQUENCE:261152214
LOCATION:SH der Grundschule Am Kannenstieg, Magdeburg, SH der Grundsch
 ule Am Kannenstieg, 0  Magdeburg
GEO:52.12053298950195000000;11.62762355804443400000
SUMMARY:OL Mä.: Magdeburger LV Einheit - VC Bitterfeld-Wolfen e.V. II
CLASS:PUBLIC
DTSTART:20210206T140000Z
DTSTAMP:20200824T160000Z
END:VEVENT
BEGIN:VEVENT
UID:562783-2da69939ed67427dc6bf3daba21059e9
X-WR-RELCALID:562783-2da69939ed67427dc6bf3daba21059e9
ORGANIZER:Volleyball
SEQUENCE:261152214
LOCATION:Sporthalle Krondorf (H.-Heine-Gymnasium), Bitterfeld-Wolfen, 
 Sporthalle Krondorf (H.-Heine-Gymnasium), 0  Bitterfeld-Wolfen
GEO:51.66759490966797000000;12.24815177917480500000
SUMMARY:OL Mä.: VC Bitterfeld-Wolfen e.V. II - WSG Reform Magdeburg II
 
CLASS:PUBLIC
DTSTART:20210220T120000Z
DTSTAMP:20200824T160000Z
END:VEVENT
BEGIN:VEVENT
UID:562790-2da69939ed67427dc6bf3daba21059e9
X-WR-RELCALID:562790-2da69939ed67427dc6bf3daba21059e9
ORGANIZER:Volleyball
SEQUENCE:261152214
LOCATION:BSZ (Berufsschulzentrum), Bitterfeld-Wolfen, BSZ (Berufsschul
 zentrum), 0  Bitterfeld-Wolfen
GEO:51.62614822387695000000;12.30083942413330000000
SUMMARY:OL Mä.: VC Bitterfeld-Wolfen e.V. II - SV Fortuna Ballenstedt
CLASS:PUBLIC
DTSTART:20210313T130000Z
DTSTAMP:20200824T160000Z
END:VEVENT
BEGIN:VEVENT
UID:562797-2da69939ed67427dc6bf3daba21059e9
X-WR-RELCALID:562797-2da69939ed67427dc6bf3daba21059e9
ORGANIZER:Volleyball
SEQUENCE:261152214
LOCATION:Sporthalle Krondorf (H.-Heine-Gymnasium), Bitterfeld-Wolfen, 
 Sporthalle Krondorf (H.-Heine-Gymnasium), 0  Bitterfeld-Wolfen
GEO:51.66759490966797000000;12.24815177917480500000
SUMMARY:OL Mä.: VC Bitterfeld-Wolfen e.V. II - SG 1990 Lindau
CLASS:PUBLIC
DTSTART:20210321T140000Z
DTSTAMP:20200824T160000Z
END:VEVENT
END:VCALENDAR