BEGIN:VCALENDAR
VERSION:2.0
PRODID:VSD-Portal-www.volley.de
METHOD:PUBLISH
BEGIN:VEVENT
UID:562781-2da69939ed67427dc6bf3daba21059e9
X-WR-RELCALID:562781-2da69939ed67427dc6bf3daba21059e9
ORGANIZER:Volleyball
SEQUENCE:261152331
LOCATION:SH der Grundschule Am Kannenstieg, Magdeburg, SH der Grundsch
 ule Am Kannenstieg, 0  Magdeburg
GEO:52.12053298950195000000;11.62762355804443400000
SUMMARY:OL Mä.: Magdeburger LV Einheit - VC Bitterfeld-Wolfen e.V. II
CLASS:PUBLIC
DTSTART:20210206T140000Z
DTSTAMP:20200824T160000Z
END:VEVENT
END:VCALENDAR