BEGIN:VCALENDAR
VERSION:2.0
PRODID:VSD-Portal-www.volley.de
METHOD:PUBLISH
BEGIN:VEVENT
UID:562727-2da69939ed67427dc6bf3daba21059e9
X-WR-RELCALID:562727-2da69939ed67427dc6bf3daba21059e9
ORGANIZER:Volleyball
SEQUENCE:261152026
LOCATION:Jahrhunderthalle Spergau, Leuna OT Spergau, Jahrhunderthalle 
 Spergau, 0  Leuna OT Spergau
GEO:51.31592559814453000000;12.03568267822265600000
SUMMARY:OL Mä.: CV Mitteldeutschland  II - VC Bitterfeld-Wolfen e.V. I
 I
CLASS:PUBLIC
DTSTART:20201101T140000Z
DTSTAMP:20200924T044000Z
END:VEVENT
END:VCALENDAR