BEGIN:VCALENDAR
VERSION:2.0
PRODID:VSD-Portal-www.volley.de
METHOD:PUBLISH
BEGIN:VEVENT
UID:562322-2da69939ed67427dc6bf3daba21059e9
X-WR-RELCALID:562322-2da69939ed67427dc6bf3daba21059e9
ORGANIZER:Volleyball
SEQUENCE:261130130
SUMMARY:LL Mitte Mä.: SG Einheit Halle - FSV Nienburg 1990 e.V.
CLASS:PUBLIC
DTSTART:20201101T090000Z
DTSTAMP:20201006T104500Z
END:VEVENT
BEGIN:VEVENT
UID:562323-2da69939ed67427dc6bf3daba21059e9
X-WR-RELCALID:562323-2da69939ed67427dc6bf3daba21059e9
ORGANIZER:Volleyball
SEQUENCE:261130130
SUMMARY:LL Mitte Mä.: SG Einheit Halle - TVC 99 Eisleben
CLASS:PUBLIC
DTSTART:20201101T090000Z
DTSTAMP:20201006T104500Z
END:VEVENT
BEGIN:VEVENT
UID:562339-2da69939ed67427dc6bf3daba21059e9
X-WR-RELCALID:562339-2da69939ed67427dc6bf3daba21059e9
ORGANIZER:Volleyball
SEQUENCE:261130130
SUMMARY:LL Mitte Mä.: SG Einheit Halle - USV Halle II
CLASS:PUBLIC
DTSTART:20201121T090000Z
DTSTAMP:20200824T155900Z
END:VEVENT
BEGIN:VEVENT
UID:562349-2da69939ed67427dc6bf3daba21059e9
X-WR-RELCALID:562349-2da69939ed67427dc6bf3daba21059e9
ORGANIZER:Volleyball
SEQUENCE:261130130
SUMMARY:LL Mitte Mä.: SG Einheit Halle - SV Wostok
CLASS:PUBLIC
DTSTART:20210116T090000Z
DTSTAMP:20200824T155900Z
END:VEVENT
BEGIN:VEVENT
UID:562350-2da69939ed67427dc6bf3daba21059e9
X-WR-RELCALID:562350-2da69939ed67427dc6bf3daba21059e9
ORGANIZER:Volleyball
SEQUENCE:261130130
SUMMARY:LL Mitte Mä.: SG Einheit Halle - SG Mansfelder Land
CLASS:PUBLIC
DTSTART:20210116T090000Z
DTSTAMP:20200824T155900Z
END:VEVENT
BEGIN:VEVENT
UID:562361-2da69939ed67427dc6bf3daba21059e9
X-WR-RELCALID:562361-2da69939ed67427dc6bf3daba21059e9
ORGANIZER:Volleyball
SEQUENCE:261130130
SUMMARY:LL Mitte Mä.: SG Einheit Halle - SV Fortuna Ballenstedt II
CLASS:PUBLIC
DTSTART:20210220T090000Z
DTSTAMP:20200824T155900Z
END:VEVENT
BEGIN:VEVENT
UID:562362-2da69939ed67427dc6bf3daba21059e9
X-WR-RELCALID:562362-2da69939ed67427dc6bf3daba21059e9
ORGANIZER:Volleyball
SEQUENCE:261130130
SUMMARY:LL Mitte Mä.: SG Einheit Halle - USV Halle III
CLASS:PUBLIC
DTSTART:20210220T090000Z
DTSTAMP:20200824T155900Z
END:VEVENT
BEGIN:VEVENT
UID:562372-2da69939ed67427dc6bf3daba21059e9
X-WR-RELCALID:562372-2da69939ed67427dc6bf3daba21059e9
ORGANIZER:Volleyball
SEQUENCE:261130130
SUMMARY:LL Mitte Mä.: SG Einheit Halle - TSV SW Zscherben
CLASS:PUBLIC
DTSTART:20210313T090000Z
DTSTAMP:20200824T155900Z
END:VEVENT
END:VCALENDAR