BEGIN:VCALENDAR
VERSION:2.0
PRODID:VSD-Portal-www.volley.de
METHOD:PUBLISH
BEGIN:VEVENT
UID:562310-2da69939ed67427dc6bf3daba21059e9
X-WR-RELCALID:562310-2da69939ed67427dc6bf3daba21059e9
ORGANIZER:Volleyball
SEQUENCE:261130533
LOCATION:Grundschule \"Am Talkessel\", Teutschenthal, Grundschule \"Am
  Talkessel\", 0  Teutschenthal
GEO:51.45296096801758000000;11.80475711822509800000
SUMMARY:LL Mitte Mä.: TSV SW Zscherben - SV Wostok
CLASS:PUBLIC
DTSTART:20200920T080000Z
DTSTAMP:20200915T074000Z
END:VEVENT
BEGIN:VEVENT
UID:562311-2da69939ed67427dc6bf3daba21059e9
X-WR-RELCALID:562311-2da69939ed67427dc6bf3daba21059e9
ORGANIZER:Volleyball
SEQUENCE:261130533
LOCATION:Grundschule \"Am Talkessel\", Teutschenthal, Grundschule \"Am
  Talkessel\", 0  Teutschenthal
GEO:51.45296096801758000000;11.80475711822509800000
SUMMARY:LL Mitte Mä.: TSV SW Zscherben - TVC 99 Eisleben
CLASS:PUBLIC
DTSTART:20200920T080000Z
DTSTAMP:20200915T074000Z
END:VEVENT
BEGIN:VEVENT
UID:562321-2da69939ed67427dc6bf3daba21059e9
X-WR-RELCALID:562321-2da69939ed67427dc6bf3daba21059e9
ORGANIZER:Volleyball
SEQUENCE:261130533
SUMMARY:LL Mitte Mä.: TSV SW Zscherben - SG Einheit Halle
CLASS:PUBLIC
DTSTART:20201011T080000Z
DTSTAMP:20200824T155900Z
END:VEVENT
BEGIN:VEVENT
UID:562328-2da69939ed67427dc6bf3daba21059e9
X-WR-RELCALID:562328-2da69939ed67427dc6bf3daba21059e9
ORGANIZER:Volleyball
SEQUENCE:261130533
SUMMARY:LL Mitte Mä.: TSV SW Zscherben - USV Halle III
CLASS:PUBLIC
DTSTART:20201108T090000Z
DTSTAMP:20200824T155900Z
END:VEVENT
BEGIN:VEVENT
UID:562329-2da69939ed67427dc6bf3daba21059e9
X-WR-RELCALID:562329-2da69939ed67427dc6bf3daba21059e9
ORGANIZER:Volleyball
SEQUENCE:261130533
SUMMARY:LL Mitte Mä.: TSV SW Zscherben - SG Mansfelder Land
CLASS:PUBLIC
DTSTART:20201108T090000Z
DTSTAMP:20200824T155900Z
END:VEVENT
BEGIN:VEVENT
UID:562346-2da69939ed67427dc6bf3daba21059e9
X-WR-RELCALID:562346-2da69939ed67427dc6bf3daba21059e9
ORGANIZER:Volleyball
SEQUENCE:261130533
SUMMARY:LL Mitte Mä.: TSV SW Zscherben - FSV Nienburg 1990 e.V.
CLASS:PUBLIC
DTSTART:20201206T090000Z
DTSTAMP:20200824T155900Z
END:VEVENT
BEGIN:VEVENT
UID:562347-2da69939ed67427dc6bf3daba21059e9
X-WR-RELCALID:562347-2da69939ed67427dc6bf3daba21059e9
ORGANIZER:Volleyball
SEQUENCE:261130533
SUMMARY:LL Mitte Mä.: TSV SW Zscherben - SV Fortuna Ballenstedt II
CLASS:PUBLIC
DTSTART:20201206T090000Z
DTSTAMP:20200824T155900Z
END:VEVENT
BEGIN:VEVENT
UID:562360-2da69939ed67427dc6bf3daba21059e9
X-WR-RELCALID:562360-2da69939ed67427dc6bf3daba21059e9
ORGANIZER:Volleyball
SEQUENCE:261130533
LOCATION:TH KGS Humboldt, Halle, TH KGS Humboldt, 0  Halle
GEO:51.48553466796875000000;11.93447685241699200000
SUMMARY:LL Mitte Mä.: TSV SW Zscherben - FSV Nienburg 1990 e.V.
CLASS:PUBLIC
DTSTART:20210131T090000Z
DTSTAMP:20200824T155900Z
END:VEVENT
END:VCALENDAR