BEGIN:VCALENDAR
VERSION:2.0
PRODID:VSD-Portal-www.volley.de
METHOD:PUBLISH
BEGIN:VEVENT
UID:562375-2da69939ed67427dc6bf3daba21059e9
X-WR-RELCALID:562375-2da69939ed67427dc6bf3daba21059e9
ORGANIZER:Volleyball
SEQUENCE:261130518
LOCATION:TH KGS Humboldt, Halle, TH KGS Humboldt, 0  Halle
GEO:51.48553466796875000000;11.93447685241699200000
SUMMARY:LL Mitte Mä.: FSV Nienburg 1990 e.V. - SG Mansfelder Land
CLASS:PUBLIC
DTSTART:20210313T090000Z
DTSTAMP:20200824T155900Z
END:VEVENT
END:VCALENDAR