BEGIN:VCALENDAR
VERSION:2.0
PRODID:VSD-Portal-www.volley.de
METHOD:PUBLISH
BEGIN:VEVENT
UID:556465-2da69939ed67427dc6bf3daba21059e9
X-WR-RELCALID:556465-2da69939ed67427dc6bf3daba21059e9
ORGANIZER:Volleyball
SEQUENCE:261101708
LOCATION:Turnhalle Pöhlde, Potsdamer Str. 32, 37412 Pöhlde
GEO:51.61319000000000000000;10.31733000000000000000
SUMMARY:BL Süd-Nied. Mä.: 1. VC Pöhlde II - TSV Nesselröden
CLASS:PUBLIC
DTSTART:20200919T130000Z
DTSTAMP:20200915T193000Z
END:VEVENT
BEGIN:VEVENT
UID:556471-2da69939ed67427dc6bf3daba21059e9
X-WR-RELCALID:556471-2da69939ed67427dc6bf3daba21059e9
ORGANIZER:Volleyball
SEQUENCE:261101708
LOCATION:Schulturnhalle Nesselröden, Schulstraße, 37115 Nesselröden
GEO:51.49614120000000000000;10.19054060000000000000
SUMMARY:BL Süd-Nied. Mä.: TSV Nesselröden - SuS Tettenborn
CLASS:PUBLIC
DTSTART:20200926T130000Z
DTSTAMP:20200823T150600Z
END:VEVENT
BEGIN:VEVENT
UID:556472-2da69939ed67427dc6bf3daba21059e9
X-WR-RELCALID:556472-2da69939ed67427dc6bf3daba21059e9
ORGANIZER:Volleyball
SEQUENCE:261101708
LOCATION:Schulturnhalle Nesselröden, Schulstraße, 37115 Nesselröden
GEO:51.49614120000000000000;10.19054060000000000000
SUMMARY:BL Süd-Nied. Mä.: TSV Nesselröden - ASC 46 Göttingen IV
CLASS:PUBLIC
DTSTART:20200926T130000Z
DTSTAMP:20200823T150600Z
END:VEVENT
BEGIN:VEVENT
UID:556487-2da69939ed67427dc6bf3daba21059e9
X-WR-RELCALID:556487-2da69939ed67427dc6bf3daba21059e9
ORGANIZER:Volleyball
SEQUENCE:261101708
LOCATION:Schulturnhalle Nesselröden, Schulstraße, 37115 Nesselröden
GEO:51.49614120000000000000;10.19054060000000000000
SUMMARY:BL Süd-Nied. Mä.: TSV Nesselröden - TV Roringen
CLASS:PUBLIC
DTSTART:20201114T140000Z
DTSTAMP:20200823T150600Z
END:VEVENT
BEGIN:VEVENT
UID:556488-2da69939ed67427dc6bf3daba21059e9
X-WR-RELCALID:556488-2da69939ed67427dc6bf3daba21059e9
ORGANIZER:Volleyball
SEQUENCE:261101708
LOCATION:Schulturnhalle Nesselröden, Schulstraße, 37115 Nesselröden
GEO:51.49614120000000000000;10.19054060000000000000
SUMMARY:BL Süd-Nied. Mä.: TSV Nesselröden - SG Lenglern
CLASS:PUBLIC
DTSTART:20201114T140000Z
DTSTAMP:20200823T150600Z
END:VEVENT
BEGIN:VEVENT
UID:556479-2da69939ed67427dc6bf3daba21059e9
X-WR-RELCALID:556479-2da69939ed67427dc6bf3daba21059e9
ORGANIZER:Volleyball
SEQUENCE:261101708
LOCATION:Grundschule Sebexen, Schulstr. 1, 37589 Kalefeld (OT Sebexen)
 
GEO:51.81681000000000000000;10.02915350000000000000
SUMMARY:BL Süd-Nied. Mä.: DJK Kolping Northeim II - TSV Nesselröden
CLASS:PUBLIC
DTSTART:20201128T140000Z
DTSTAMP:20201009T084000Z
END:VEVENT
BEGIN:VEVENT
UID:556494-2da69939ed67427dc6bf3daba21059e9
X-WR-RELCALID:556494-2da69939ed67427dc6bf3daba21059e9
ORGANIZER:Volleyball
SEQUENCE:261101708
LOCATION:Grundschule Sebexen, Schulstr. 1, 37589 Kalefeld (OT Sebexen)
 
GEO:51.81681000000000000000;10.02915350000000000000
SUMMARY:BL Süd-Nied. Mä.: SG Echte/Kalefeld II - TSV Nesselröden
CLASS:PUBLIC
DTSTART:20201128T140000Z
DTSTAMP:20200823T150600Z
END:VEVENT
BEGIN:VEVENT
UID:556503-2da69939ed67427dc6bf3daba21059e9
X-WR-RELCALID:556503-2da69939ed67427dc6bf3daba21059e9
ORGANIZER:Volleyball
SEQUENCE:261101708
LOCATION:BBS Ritterplan, Ritterplan 6, 37073 Göttingen
GEO:51.53613260000000000000;9.93779460000000000000
SUMMARY:BL Süd-Nied. Mä.: TV Roringen - TSV Nesselröden
CLASS:PUBLIC
DTSTART:20201219T140000Z
DTSTAMP:20201016T103000Z
END:VEVENT
BEGIN:VEVENT
UID:556507-2da69939ed67427dc6bf3daba21059e9
X-WR-RELCALID:556507-2da69939ed67427dc6bf3daba21059e9
ORGANIZER:Volleyball
SEQUENCE:261101708
LOCATION:Schulturnhalle Nesselröden, Schulstraße, 37115 Nesselröden
GEO:51.49614120000000000000;10.19054060000000000000
SUMMARY:BL Süd-Nied. Mä.: SuS Tettenborn - TSV Nesselröden
CLASS:PUBLIC
DTSTART:20210123T140000Z
DTSTAMP:20201011T173500Z
END:VEVENT
BEGIN:VEVENT
UID:556524-2da69939ed67427dc6bf3daba21059e9
X-WR-RELCALID:556524-2da69939ed67427dc6bf3daba21059e9
ORGANIZER:Volleyball
SEQUENCE:261101708
LOCATION:Schulturnhalle Nesselröden, Schulstraße, 37115 Nesselröden
GEO:51.49614120000000000000;10.19054060000000000000
SUMMARY:BL Süd-Nied. Mä.: TSV Nesselröden - SG Echte/Kalefeld II
CLASS:PUBLIC
DTSTART:20210123T140000Z
DTSTAMP:20201011T173500Z
END:VEVENT
BEGIN:VEVENT
UID:556517-2da69939ed67427dc6bf3daba21059e9
X-WR-RELCALID:556517-2da69939ed67427dc6bf3daba21059e9
ORGANIZER:Volleyball
SEQUENCE:261101708
LOCATION:Schulturnhalle Nesselröden, Schulstraße, 37115 Nesselröden
GEO:51.49614120000000000000;10.19054060000000000000
SUMMARY:BL Süd-Nied. Mä.: TSV Nesselröden - DJK Kolping Northeim II
CLASS:PUBLIC
DTSTART:20210206T140000Z
DTSTAMP:20200823T150600Z
END:VEVENT
BEGIN:VEVENT
UID:556518-2da69939ed67427dc6bf3daba21059e9
X-WR-RELCALID:556518-2da69939ed67427dc6bf3daba21059e9
ORGANIZER:Volleyball
SEQUENCE:261101708
LOCATION:Schulturnhalle Nesselröden, Schulstraße, 37115 Nesselröden
GEO:51.49614120000000000000;10.19054060000000000000
SUMMARY:BL Süd-Nied. Mä.: TSV Nesselröden - 1. VC Pöhlde II
CLASS:PUBLIC
DTSTART:20210206T140000Z
DTSTAMP:20200823T150600Z
END:VEVENT
BEGIN:VEVENT
UID:556530-2da69939ed67427dc6bf3daba21059e9
X-WR-RELCALID:556530-2da69939ed67427dc6bf3daba21059e9
ORGANIZER:Volleyball
SEQUENCE:261101708
LOCATION:Hermann-Nohl-Schule, Immanuel-Kant-Straße 44, 37083 Göttingen
 
GEO:51.52344000000000000000;9.94457000000000000000
SUMMARY:BL Süd-Nied. Mä.: ASC 46 Göttingen IV - TSV Nesselröden
CLASS:PUBLIC
DTSTART:20210227T140000Z
DTSTAMP:20200915T070000Z
END:VEVENT
BEGIN:VEVENT
UID:556534-2da69939ed67427dc6bf3daba21059e9
X-WR-RELCALID:556534-2da69939ed67427dc6bf3daba21059e9
ORGANIZER:Volleyball
SEQUENCE:261101708
LOCATION:Sporthalle Lenglern, Brandenburger Str. 13, 37120 Bovenden-Le
 nglern
GEO:51.58697000000000000000;9.87543000000000000000
SUMMARY:BL Süd-Nied. Mä.: SG Lenglern - TSV Nesselröden
CLASS:PUBLIC
DTSTART:20210313T140000Z
DTSTAMP:20200823T150600Z
END:VEVENT
END:VCALENDAR