BEGIN:VCALENDAR
VERSION:2.0
PRODID:VSD-Portal-www.volley.de
METHOD:PUBLISH
BEGIN:VEVENT
UID:556465-2da69939ed67427dc6bf3daba21059e9
X-WR-RELCALID:556465-2da69939ed67427dc6bf3daba21059e9
ORGANIZER:Volleyball
SEQUENCE:261102016
LOCATION:Turnhalle Pöhlde, Potsdamer Str. 32, 37412 Pöhlde
GEO:51.61319000000000000000;10.31733000000000000000
SUMMARY:BL Süd-Nied. Mä.: 1. VC Pöhlde II - TSV Nesselröden
CLASS:PUBLIC
DTSTART:20200919T130000Z
DTSTAMP:20200915T193000Z
END:VEVENT
BEGIN:VEVENT
UID:556466-2da69939ed67427dc6bf3daba21059e9
X-WR-RELCALID:556466-2da69939ed67427dc6bf3daba21059e9
ORGANIZER:Volleyball
SEQUENCE:261102016
LOCATION:Turnhalle Pöhlde, Potsdamer Str. 32, 37412 Pöhlde
GEO:51.61319000000000000000;10.31733000000000000000
SUMMARY:BL Süd-Nied. Mä.: 1. VC Pöhlde II - SG Lenglern
CLASS:PUBLIC
DTSTART:20200919T130000Z
DTSTAMP:20200915T193000Z
END:VEVENT
BEGIN:VEVENT
UID:556501-2da69939ed67427dc6bf3daba21059e9
X-WR-RELCALID:556501-2da69939ed67427dc6bf3daba21059e9
ORGANIZER:Volleyball
SEQUENCE:261102016
LOCATION:Turnhalle Pöhlde, Potsdamer Str. 32, 37412 Pöhlde
GEO:51.61319000000000000000;10.31733000000000000000
SUMMARY:BL Süd-Nied. Mä.: 1. VC Pöhlde II - ASC 46 Göttingen IV
CLASS:PUBLIC
DTSTART:20201219T140000Z
DTSTAMP:20200823T150600Z
END:VEVENT
BEGIN:VEVENT
UID:556502-2da69939ed67427dc6bf3daba21059e9
X-WR-RELCALID:556502-2da69939ed67427dc6bf3daba21059e9
ORGANIZER:Volleyball
SEQUENCE:261102016
LOCATION:Turnhalle Pöhlde, Potsdamer Str. 32, 37412 Pöhlde
GEO:51.61319000000000000000;10.31733000000000000000
SUMMARY:BL Süd-Nied. Mä.: 1. VC Pöhlde II - SuS Tettenborn
CLASS:PUBLIC
DTSTART:20201219T140000Z
DTSTAMP:20200823T150600Z
END:VEVENT
BEGIN:VEVENT
UID:556519-2da69939ed67427dc6bf3daba21059e9
X-WR-RELCALID:556519-2da69939ed67427dc6bf3daba21059e9
ORGANIZER:Volleyball
SEQUENCE:261102016
LOCATION:Turnhalle Pöhlde, Potsdamer Str. 32, 37412 Pöhlde
GEO:51.61319000000000000000;10.31733000000000000000
SUMMARY:BL Süd-Nied. Mä.: 1. VC Pöhlde II - TV Roringen
CLASS:PUBLIC
DTSTART:20210213T140000Z
DTSTAMP:20200823T150600Z
END:VEVENT
BEGIN:VEVENT
UID:556520-2da69939ed67427dc6bf3daba21059e9
X-WR-RELCALID:556520-2da69939ed67427dc6bf3daba21059e9
ORGANIZER:Volleyball
SEQUENCE:261102016
LOCATION:Turnhalle Pöhlde, Potsdamer Str. 32, 37412 Pöhlde
GEO:51.61319000000000000000;10.31733000000000000000
SUMMARY:BL Süd-Nied. Mä.: 1. VC Pöhlde II - DJK Kolping Northeim II
CLASS:PUBLIC
DTSTART:20210213T140000Z
DTSTAMP:20200823T150600Z
END:VEVENT
END:VCALENDAR