BEGIN:VCALENDAR
VERSION:2.0
PRODID:VSD-Portal-www.volley.de
METHOD:PUBLISH
BEGIN:VEVENT
UID:556535-2da69939ed67427dc6bf3daba21059e9
X-WR-RELCALID:556535-2da69939ed67427dc6bf3daba21059e9
ORGANIZER:Volleyball
SEQUENCE:261141735
LOCATION:Grundschule Sebexen, Schulstr. 1, 37589 Kalefeld (OT Sebexen)
 
GEO:51.81681000000000000000;10.02915350000000000000
SUMMARY:BL Süd-Nied. Mä.: SG Echte/Kalefeld II - 1. VC Pöhlde II
CLASS:PUBLIC
DTSTART:20210313T140000Z
DTSTAMP:20200823T150600Z
END:VEVENT
END:VCALENDAR