BEGIN:VCALENDAR
VERSION:2.0
PRODID:VSD-Portal-www.volley.de
METHOD:PUBLISH
BEGIN:VEVENT
UID:556518-2da69939ed67427dc6bf3daba21059e9
X-WR-RELCALID:556518-2da69939ed67427dc6bf3daba21059e9
ORGANIZER:Volleyball
SEQUENCE:261151348
LOCATION:Schulturnhalle Nesselröden, Schulstraße, 37115 Nesselröden
GEO:51.49614120000000000000;10.19054060000000000000
SUMMARY:BL Süd-Nied. Mä.: TSV Nesselröden - 1. VC Pöhlde II
CLASS:PUBLIC
DTSTART:20210206T140000Z
DTSTAMP:20200823T150600Z
END:VEVENT
END:VCALENDAR