BEGIN:VCALENDAR
VERSION:2.0
PRODID:VSD-Portal-www.volley.de
METHOD:PUBLISH
BEGIN:VEVENT
UID:556463-2da69939ed67427dc6bf3daba21059e9
X-WR-RELCALID:556463-2da69939ed67427dc6bf3daba21059e9
ORGANIZER:Volleyball
SEQUENCE:261092327
LOCATION:Grundschule Alt-Wolfsburg, Am Lerchengarten 30, 38448 Wolfsbu
 rg
GEO:52.44590730000000000000;10.80034110000000000000
SUMMARY:BL Bra. N/S Mä.: VfL Wolfsburg II - MTV Vollbüttel
CLASS:PUBLIC
DTSTART:20210313T140000Z
DTSTAMP:20200823T150600Z
END:VEVENT
END:VCALENDAR