BEGIN:VCALENDAR
VERSION:2.0
PRODID:VSD-Portal-www.volley.de
METHOD:PUBLISH
BEGIN:VEVENT
UID:556445-2da69939ed67427dc6bf3daba21059e9
X-WR-RELCALID:556445-2da69939ed67427dc6bf3daba21059e9
ORGANIZER:Volleyball
SEQUENCE:261092322
LOCATION:Landkreishalle Königslutter, Rieseberger Weg, 38154 Königslut
 ter
GEO:52.25927340000000000000;10.81353620000000000000
SUMMARY:BL Bra. N/S Mä.: TV Bornum II - USC Braunschweig V
CLASS:PUBLIC
DTSTART:20201205T140000Z
DTSTAMP:20201112T204500Z
END:VEVENT
END:VCALENDAR