BEGIN:VCALENDAR
VERSION:2.0
PRODID:VSD-Portal-www.volley.de
METHOD:PUBLISH
BEGIN:VEVENT
UID:556126-2da69939ed67427dc6bf3daba21059e9
X-WR-RELCALID:556126-2da69939ed67427dc6bf3daba21059e9
ORGANIZER:Volleyball
SEQUENCE:261140014
LOCATION:Sporthalle Lange Trift, Lange Trift, 37127 Dransfeld
GEO:51.49672170000000000000;9.75755140000000000000
SUMMARY:BKl Süd-Nied. Fr.: DSC Dransfeld - Tuspo Weende V
CLASS:PUBLIC
DTSTART:20201220T100000Z
DTSTAMP:20201023T090000Z
END:VEVENT
END:VCALENDAR