BEGIN:VCALENDAR
VERSION:2.0
PRODID:VSD-Portal-www.volley.de
METHOD:PUBLISH
BEGIN:VEVENT
UID:552439-2da69939ed67427dc6bf3daba21059e9
X-WR-RELCALID:552439-2da69939ed67427dc6bf3daba21059e9
ORGANIZER:Volleyball
SEQUENCE:261092321
LOCATION:Hohenstaufen-Sporthalle, Karlstalweg, 69412 Eberbach
GEO:49.46849070000000000000;8.98002690000000000000
SUMMARY:LL 1 Mä.: TV Eberbach - SG Hohensachsen
CLASS:PUBLIC
DTSTART:20201212T140000Z
DTSTAMP:20200823T144000Z
END:VEVENT
END:VCALENDAR