BEGIN:VCALENDAR
VERSION:2.0
PRODID:VSD-Portal-www.volley.de
METHOD:PUBLISH
BEGIN:VEVENT
UID:552403-2da69939ed67427dc6bf3daba21059e9
X-WR-RELCALID:552403-2da69939ed67427dc6bf3daba21059e9
ORGANIZER:Volleyball
SEQUENCE:261092319
LOCATION:Dragonersporthalle, Blücherstr. 19, 75185 Karlsruhe
GEO:49.01233860000000000000;8.37494590000000000000
SUMMARY:BL 3 Fr.: SV KA-Beiertheim 5 - SG Ersingen-Ispringen-Pforzheim
  2
CLASS:PUBLIC
DTSTART:20210327T120000Z
DTSTAMP:20200823T144000Z
END:VEVENT
END:VCALENDAR