BEGIN:VCALENDAR
VERSION:2.0
PRODID:VSD-Portal-www.volley.de
METHOD:PUBLISH
BEGIN:VEVENT
UID:552165-2da69939ed67427dc6bf3daba21059e9
X-WR-RELCALID:552165-2da69939ed67427dc6bf3daba21059e9
ORGANIZER:Volleyball
SEQUENCE:261092306
LOCATION:Marion-Dönhoff-Realschule, Wiesenplätz 7, 68782 Brühl
GEO:49.38890000000000000000;8.53113000000000000000
SUMMARY:BL 1 Mä.: SG Ketsch-Brühl - VSG Hochstetten-Liedolsheim
CLASS:PUBLIC
DTSTART:20201212T140000Z
DTSTAMP:20200823T144000Z
END:VEVENT
END:VCALENDAR