BEGIN:VCALENDAR
VERSION:2.0
PRODID:VSD-Portal-www.volley.de
METHOD:PUBLISH
BEGIN:VEVENT
UID:551821-2da69939ed67427dc6bf3daba21059e9
X-WR-RELCALID:551821-2da69939ed67427dc6bf3daba21059e9
ORGANIZER:Volleyball
SEQUENCE:261121642
LOCATION:Schwarzwaldhalle, Ludwig-Jahn-Str. 8, 77815 Bühl
GEO:48.68883000000000000000;8.12881000000000000000
SUMMARY:BKl 3 Fr.: TV Bretten 3 - TV Bühl 2
CLASS:PUBLIC
DTSTART:20201031T140000Z
DTSTAMP:20201028T191500Z
END:VEVENT
BEGIN:VEVENT
UID:551830-2da69939ed67427dc6bf3daba21059e9
X-WR-RELCALID:551830-2da69939ed67427dc6bf3daba21059e9
ORGANIZER:Volleyball
SEQUENCE:261121642
LOCATION:Schwarzwaldhalle, Ludwig-Jahn-Str. 8, 77815 Bühl
GEO:48.68883000000000000000;8.12881000000000000000
SUMMARY:BKl 3 Fr.: TV Flehingen - TV Bühl 2
CLASS:PUBLIC
DTSTART:20201031T140000Z
DTSTAMP:20201028T191500Z
END:VEVENT
BEGIN:VEVENT
UID:551815-2da69939ed67427dc6bf3daba21059e9
X-WR-RELCALID:551815-2da69939ed67427dc6bf3daba21059e9
ORGANIZER:Volleyball
SEQUENCE:261121642
LOCATION:Schwarzwaldhalle, Ludwig-Jahn-Str. 8, 77815 Bühl
GEO:48.68883000000000000000;8.12881000000000000000
SUMMARY:BKl 3 Fr.: TV Bühl 2 - TV Bretten 4
CLASS:PUBLIC
DTSTART:20201129T100000Z
DTSTAMP:20201114T115500Z
END:VEVENT
BEGIN:VEVENT
UID:551816-2da69939ed67427dc6bf3daba21059e9
X-WR-RELCALID:551816-2da69939ed67427dc6bf3daba21059e9
ORGANIZER:Volleyball
SEQUENCE:261121642
LOCATION:Schwarzwaldhalle, Ludwig-Jahn-Str. 8, 77815 Bühl
GEO:48.68883000000000000000;8.12881000000000000000
SUMMARY:BKl 3 Fr.: TV Bühl 2 - VC Neureut
CLASS:PUBLIC
DTSTART:20201129T100000Z
DTSTAMP:20201114T115500Z
END:VEVENT
BEGIN:VEVENT
UID:551833-2da69939ed67427dc6bf3daba21059e9
X-WR-RELCALID:551833-2da69939ed67427dc6bf3daba21059e9
ORGANIZER:Volleyball
SEQUENCE:261121642
LOCATION:Schwarzwaldhalle, Ludwig-Jahn-Str. 8, 77815 Bühl
GEO:48.68883000000000000000;8.12881000000000000000
SUMMARY:BKl 3 Fr.: TV Bühl 2 - SSC Karlsruhe 3
CLASS:PUBLIC
DTSTART:20210206T130000Z
DTSTAMP:20200823T144000Z
END:VEVENT
BEGIN:VEVENT
UID:551834-2da69939ed67427dc6bf3daba21059e9
X-WR-RELCALID:551834-2da69939ed67427dc6bf3daba21059e9
ORGANIZER:Volleyball
SEQUENCE:261121642
LOCATION:Schwarzwaldhalle, Ludwig-Jahn-Str. 8, 77815 Bühl
GEO:48.68883000000000000000;8.12881000000000000000
SUMMARY:BKl 3 Fr.: TV Bühl 2 - TV Au am Rhein
CLASS:PUBLIC
DTSTART:20210206T130000Z
DTSTAMP:20200823T144000Z
END:VEVENT
BEGIN:VEVENT
UID:551844-2da69939ed67427dc6bf3daba21059e9
X-WR-RELCALID:551844-2da69939ed67427dc6bf3daba21059e9
ORGANIZER:Volleyball
SEQUENCE:261121642
LOCATION:Schwarzwaldhalle, Ludwig-Jahn-Str. 8, 77815 Bühl
GEO:48.68883000000000000000;8.12881000000000000000
SUMMARY:BKl 3 Fr.: TV Bühl 2 - TV Bretten 3
CLASS:PUBLIC
DTSTART:20210314T100000Z
DTSTAMP:20200823T144000Z
END:VEVENT
BEGIN:VEVENT
UID:551845-2da69939ed67427dc6bf3daba21059e9
X-WR-RELCALID:551845-2da69939ed67427dc6bf3daba21059e9
ORGANIZER:Volleyball
SEQUENCE:261121642
LOCATION:Schwarzwaldhalle, Ludwig-Jahn-Str. 8, 77815 Bühl
GEO:48.68883000000000000000;8.12881000000000000000
SUMMARY:BKl 3 Fr.: TV Bühl 2 - SG Mittelbaden Volleys
CLASS:PUBLIC
DTSTART:20210314T100000Z
DTSTAMP:20200823T144000Z
END:VEVENT
END:VCALENDAR