BEGIN:VCALENDAR
VERSION:2.0
PRODID:VSD-Portal-www.volley.de
METHOD:PUBLISH
BEGIN:VEVENT
UID:551810-2da69939ed67427dc6bf3daba21059e9
X-WR-RELCALID:551810-2da69939ed67427dc6bf3daba21059e9
ORGANIZER:Volleyball
SEQUENCE:261142035
LOCATION:Sporthalle am Cuppamare, Badstraße 4, 76456 Kuppenheim
GEO:48.82974880000000000000;8.26891260000000000000
SUMMARY:BKl 3 Fr.: SG Mittelbaden Volleys - TV Bühl 2
CLASS:PUBLIC
DTSTART:20201114T130000Z
DTSTAMP:20201114T115500Z
END:VEVENT
END:VCALENDAR