BEGIN:VCALENDAR
VERSION:2.0
PRODID:VSD-Portal-www.volley.de
METHOD:PUBLISH
BEGIN:VEVENT
UID:549178-2da69939ed67427dc6bf3daba21059e9
X-WR-RELCALID:549178-2da69939ed67427dc6bf3daba21059e9
ORGANIZER:Volleyball
SEQUENCE:261131515
LOCATION:Otto-Hahn-Gymnasium, Ecke Glogauer Str./Kösliner Str., 76139 
 Karlsruhe
GEO:49.03380890000000000000;8.44417560000000000000
SUMMARY:RLS Mä.: SSC Karlsruhe 2 - TSV G.A. Stuttgart 2
CLASS:PUBLIC
DTSTART:20210220T180000Z
DTSTAMP:20200823T140600Z
END:VEVENT
END:VCALENDAR