BEGIN:VCALENDAR
VERSION:2.0
PRODID:VSD-Portal-www.volley.de
METHOD:PUBLISH
BEGIN:VEVENT
UID:548626-2da69939ed67427dc6bf3daba21059e9
X-WR-RELCALID:548626-2da69939ed67427dc6bf3daba21059e9
ORGANIZER:Volleyball
SEQUENCE:261130502
LOCATION:Bundesstraße 96, Bundesstraße 96, 20144 Hamburg
GEO:53.57275000000000000000;9.96747000000000000000
SUMMARY:RLN Fr.: Eimsbütteler TV 2 - MSV Pampow
CLASS:PUBLIC
DTSTART:20201010T140000Z
DTSTAMP:20200912T094500Z
END:VEVENT
BEGIN:VEVENT
UID:570156-2da69939ed67427dc6bf3daba21059e9
X-WR-RELCALID:570156-2da69939ed67427dc6bf3daba21059e9
ORGANIZER:Volleyball
SEQUENCE:261130502
LOCATION:Bundesstraße 96, Bundesstraße 96, 20144 Hamburg
GEO:53.57275000000000000000;9.96747000000000000000
SUMMARY:RLN Fr.: Eimsbütteler TV 2 - 1. VC Parchim
CLASS:PUBLIC
DTSTART:20210220T150000Z
DTSTAMP:20210211T170000Z
END:VEVENT
BEGIN:VEVENT
UID:570161-2da69939ed67427dc6bf3daba21059e9
X-WR-RELCALID:570161-2da69939ed67427dc6bf3daba21059e9
ORGANIZER:Volleyball
SEQUENCE:261130502
LOCATION:Bundesstraße 96, Bundesstraße 96, 20144 Hamburg
GEO:53.57275000000000000000;9.96747000000000000000
SUMMARY:RLN Fr.: Eimsbütteler TV 2 - VT Hamburg
CLASS:PUBLIC
DTSTART:20210311T183000Z
DTSTAMP:20210211T170000Z
END:VEVENT
END:VCALENDAR