BEGIN:VCALENDAR
VERSION:2.0
PRODID:VSD-Portal-www.volley.de
METHOD:PUBLISH
BEGIN:VEVENT
UID:570145-2da69939ed67427dc6bf3daba21059e9
X-WR-RELCALID:570145-2da69939ed67427dc6bf3daba21059e9
ORGANIZER:Volleyball
SEQUENCE:261091502
LOCATION:Sporthalle Am Fischerdamm, Am Fischerdamm, 19370 Parchim
GEO:53.42548500000000000000;11.84404830000000000000
SUMMARY:RLN Fr.: 1. VC Parchim - VG Elmshorn 1
CLASS:PUBLIC
DTSTART:20210307T150000Z
DTSTAMP:20210211T170000Z
END:VEVENT
END:VCALENDAR