BEGIN:VCALENDAR
VERSION:2.0
PRODID:VSD-Portal-www.volley.de
METHOD:PUBLISH
BEGIN:VEVENT
UID:548627-2da69939ed67427dc6bf3daba21059e9
X-WR-RELCALID:548627-2da69939ed67427dc6bf3daba21059e9
ORGANIZER:Volleyball
SEQUENCE:261100048
LOCATION:Boje-C.-Steffen-Halle, Koppeldamm 50, 25335 Elmshorn
GEO:53.76755000000000000000;9.66555000000000000000
SUMMARY:RLN Fr.: VG Elmshorn 1 - SV Warnemünde
CLASS:PUBLIC
DTSTART:20210221T140000Z
DTSTAMP:20210211T170000Z
END:VEVENT
END:VCALENDAR