BEGIN:VCALENDAR
VERSION:2.0
PRODID:VSD-Portal-www.volley.de
METHOD:PUBLISH
BEGIN:VEVENT
UID:547196-2da69939ed67427dc6bf3daba21059e9
X-WR-RELCALID:547196-2da69939ed67427dc6bf3daba21059e9
ORGANIZER:Volleyball
SEQUENCE:261092306
LOCATION:SH BBS Germersheim, Paradeplatz 8 (Schule), 76726 Germersheim
 
GEO:49.21652410000000000000;8.37478090000000000000
SUMMARY:OL RP/Saar Mä.: TS Germersheim - TuS Gensingen
CLASS:PUBLIC
DTSTART:20210327T180000Z
DTSTAMP:20200801T084300Z
END:VEVENT
END:VCALENDAR