BEGIN:VCALENDAR
VERSION:2.0
PRODID:VSD-Portal-www.volley.de
METHOD:PUBLISH
BEGIN:VEVENT
UID:546373-2da69939ed67427dc6bf3daba21059e9
X-WR-RELCALID:546373-2da69939ed67427dc6bf3daba21059e9
ORGANIZER:Volleyball
SEQUENCE:261160424
LOCATION:Sporthalle Merzhausen, Am Marktplatz 1, 79249 Merzhausen
GEO:47.96630620000000000000;7.82714210000000000000
SUMMARY:KL S Fr.: VfR Merzhausen 3 - TV Hartheim 2
CLASS:PUBLIC
DTSTART:20210117T100000Z
DTSTAMP:20200801T083400Z
END:VEVENT
END:VCALENDAR