BEGIN:VCALENDAR
VERSION:2.0
PRODID:VSD-Portal-www.volley.de
METHOD:PUBLISH
BEGIN:VEVENT
UID:546371-2da69939ed67427dc6bf3daba21059e9
X-WR-RELCALID:546371-2da69939ed67427dc6bf3daba21059e9
ORGANIZER:Volleyball
SEQUENCE:261160423
LOCATION:Turn- und Festhalle, Jan Ullrich Str.2, 79291 Merdingen
GEO:48.01979590000000000000;7.68949970000000000000
SUMMARY:KL S Fr.: FT 1844 Freiburg 5 - TV Bad Säckingen 2
CLASS:PUBLIC
DTSTART:20210116T130000Z
DTSTAMP:20200801T083400Z
END:VEVENT
END:VCALENDAR