BEGIN:VCALENDAR
VERSION:2.0
PRODID:VSD-Portal-www.volley.de
METHOD:PUBLISH
BEGIN:VEVENT
UID:546359-2da69939ed67427dc6bf3daba21059e9
X-WR-RELCALID:546359-2da69939ed67427dc6bf3daba21059e9
ORGANIZER:Volleyball
SEQUENCE:261160617
LOCATION:Turn- und Festhalle, Franz-Heitzler-Weg 6, 79224 Umkirch
GEO:48.02948440000000000000;7.76836030000000000000
SUMMARY:KL S Fr.: VBG Efringen-Kirchen 2 - TV Hartheim 2
CLASS:PUBLIC
DTSTART:20201212T130000Z
DTSTAMP:20200801T083400Z
END:VEVENT
END:VCALENDAR