BEGIN:VCALENDAR
VERSION:2.0
PRODID:VSD-Portal-www.volley.de
METHOD:PUBLISH
BEGIN:VEVENT
UID:546339-2da69939ed67427dc6bf3daba21059e9
X-WR-RELCALID:546339-2da69939ed67427dc6bf3daba21059e9
ORGANIZER:Volleyball
SEQUENCE:261160425
LOCATION:Sporthalle Badmatte, Bergseestr. 25, 79713 Bad Säckingen
GEO:47.55791000000000000000;7.94470000000000000000
SUMMARY:KL S Fr.: TV Bad Säckingen 2 - TV Hartheim 2
CLASS:PUBLIC
DTSTART:20201017T120000Z
DTSTAMP:20200801T083400Z
END:VEVENT
END:VCALENDAR