BEGIN:VCALENDAR
VERSION:2.0
PRODID:VSD-Portal-www.volley.de
METHOD:PUBLISH
BEGIN:VEVENT
UID:546323-2da69939ed67427dc6bf3daba21059e9
X-WR-RELCALID:546323-2da69939ed67427dc6bf3daba21059e9
ORGANIZER:Volleyball
SEQUENCE:261092318
LOCATION:Sporthalle, Tullastraße 15, 79369 Wyhl
GEO:48.16287180000000000000;7.64155580000000000000
SUMMARY:KKl N Fr.: TS Kehl 2 - TV Freiburg-St.Georgen 2
CLASS:PUBLIC
DTSTART:20210131T100000Z
DTSTAMP:20200801T083400Z
END:VEVENT
END:VCALENDAR