BEGIN:VCALENDAR
VERSION:2.0
PRODID:VSD-Portal-www.volley.de
METHOD:PUBLISH
BEGIN:VEVENT
UID:546151-2da69939ed67427dc6bf3daba21059e9
X-WR-RELCALID:546151-2da69939ed67427dc6bf3daba21059e9
ORGANIZER:Volleyball
SEQUENCE:261130221
LOCATION:Schillerschulhalle, Schillerstr. 10, 78549 Spaichingen
GEO:48.07913000000000000000;8.73950000000000000000
SUMMARY:BL SW Bod. Mä.: TV Spaichingen Youngsters - TSV Mimmenhausen 3
 
CLASS:PUBLIC
DTSTART:20201017T123000Z
DTSTAMP:20201025T104000Z
END:VEVENT
END:VCALENDAR