BEGIN:VCALENDAR
VERSION:2.0
PRODID:VSD-Portal-www.volley.de
METHOD:PUBLISH
BEGIN:VEVENT
UID:545857-2da69939ed67427dc6bf3daba21059e9
X-WR-RELCALID:545857-2da69939ed67427dc6bf3daba21059e9
ORGANIZER:Volleyball
SEQUENCE:261100414
LOCATION:Kreissporthalle, Obertorstr. 24, 88662 Überlingen
GEO:47.76839630000000000000;9.16852600000000000000
SUMMARY:LL O Mä.: TV Überlingen 2 - TV Neustadt
CLASS:PUBLIC
DTSTART:20201011T090000Z
DTSTAMP:20201005T093000Z
END:VEVENT
BEGIN:VEVENT
UID:545858-2da69939ed67427dc6bf3daba21059e9
X-WR-RELCALID:545858-2da69939ed67427dc6bf3daba21059e9
ORGANIZER:Volleyball
SEQUENCE:261100414
LOCATION:Kreissporthalle, Obertorstr. 24, 88662 Überlingen
GEO:47.76839630000000000000;9.16852600000000000000
SUMMARY:LL O Mä.: TV Überlingen 2 - SV Bohlingen 2
CLASS:PUBLIC
DTSTART:20201011T090000Z
DTSTAMP:20201005T093000Z
END:VEVENT
BEGIN:VEVENT
UID:545875-2da69939ed67427dc6bf3daba21059e9
X-WR-RELCALID:545875-2da69939ed67427dc6bf3daba21059e9
ORGANIZER:Volleyball
SEQUENCE:261100414
LOCATION:Campus, Rauensteinstr. 2, 88662 Überlingen
GEO:47.76685380000000000000;9.16826310000000000000
SUMMARY:LL O Mä.: TV Überlingen 2 - TUS Bonndorf
CLASS:PUBLIC
DTSTART:20201115T100000Z
DTSTAMP:20201029T160000Z
END:VEVENT
BEGIN:VEVENT
UID:545876-2da69939ed67427dc6bf3daba21059e9
X-WR-RELCALID:545876-2da69939ed67427dc6bf3daba21059e9
ORGANIZER:Volleyball
SEQUENCE:261100414
LOCATION:Campus, Rauensteinstr. 2, 88662 Überlingen
GEO:47.76685380000000000000;9.16826310000000000000
SUMMARY:LL O Mä.: TV Überlingen 2 - USC Konstanz 3
CLASS:PUBLIC
DTSTART:20201115T100000Z
DTSTAMP:20201029T160000Z
END:VEVENT
BEGIN:VEVENT
UID:545889-2da69939ed67427dc6bf3daba21059e9
X-WR-RELCALID:545889-2da69939ed67427dc6bf3daba21059e9
ORGANIZER:Volleyball
SEQUENCE:261100414
LOCATION:Campus, Rauensteinstr. 2, 88662 Überlingen
GEO:47.76685380000000000000;9.16826310000000000000
SUMMARY:LL O Mä.: TV Überlingen 2 - Untersee Volleys RZ
CLASS:PUBLIC
DTSTART:20210124T100000Z
DTSTAMP:20200921T082000Z
END:VEVENT
BEGIN:VEVENT
UID:545890-2da69939ed67427dc6bf3daba21059e9
X-WR-RELCALID:545890-2da69939ed67427dc6bf3daba21059e9
ORGANIZER:Volleyball
SEQUENCE:261100414
LOCATION:Campus, Rauensteinstr. 2, 88662 Überlingen
GEO:47.76685380000000000000;9.16826310000000000000
SUMMARY:LL O Mä.: TV Überlingen 2 - USC Konstanz 3
CLASS:PUBLIC
DTSTART:20210124T100000Z
DTSTAMP:20200921T082000Z
END:VEVENT
END:VCALENDAR