BEGIN:VCALENDAR
VERSION:2.0
PRODID:VSD-Portal-www.volley.de
METHOD:PUBLISH
BEGIN:VEVENT
UID:545892-2da69939ed67427dc6bf3daba21059e9
X-WR-RELCALID:545892-2da69939ed67427dc6bf3daba21059e9
ORGANIZER:Volleyball
SEQUENCE:261150509
LOCATION:Gemeinschaftshaus, Wilhelm-Sutter-Straße 28, 79822 Neustadt
GEO:47.91914000000000000000;8.20741000000000000000
SUMMARY:LL O Mä.: TV Neustadt - TV Überlingen 2
CLASS:PUBLIC
DTSTART:20210130T130000Z
DTSTAMP:20200801T083200Z
END:VEVENT
END:VCALENDAR