BEGIN:VCALENDAR
VERSION:2.0
PRODID:VSD-Portal-www.volley.de
METHOD:PUBLISH
BEGIN:VEVENT
UID:545881-2da69939ed67427dc6bf3daba21059e9
X-WR-RELCALID:545881-2da69939ed67427dc6bf3daba21059e9
ORGANIZER:Volleyball
SEQUENCE:261100640
LOCATION:Paradieshalle, Zasiusstr. 5, 78462 Konstanz
GEO:47.66486000000000000000;9.16899000000000000000
SUMMARY:LL O Mä.: USC Konstanz 3 - SV Litzelstetten
CLASS:PUBLIC
DTSTART:20201212T130000Z
DTSTAMP:20200801T083200Z
END:VEVENT
END:VCALENDAR