BEGIN:VCALENDAR
VERSION:2.0
PRODID:VSD-Portal-www.volley.de
METHOD:PUBLISH
BEGIN:VEVENT
UID:545866-2da69939ed67427dc6bf3daba21059e9
X-WR-RELCALID:545866-2da69939ed67427dc6bf3daba21059e9
ORGANIZER:Volleyball
SEQUENCE:261100048
LOCATION:Seeblickhalle, Großh.-Friedrich-Str. 14, 78465 Litzelstetten
GEO:47.71211000000000000000;9.17581000000000000000
SUMMARY:LL O Mä.: SV Litzelstetten - TV Überlingen 2
CLASS:PUBLIC
DTSTART:20201101T100000Z
DTSTAMP:20201027T124500Z
END:VEVENT
END:VCALENDAR