BEGIN:VCALENDAR
VERSION:2.0
PRODID:VSD-Portal-www.volley.de
METHOD:PUBLISH
BEGIN:VEVENT
UID:545051-2da69939ed67427dc6bf3daba21059e9
X-WR-RELCALID:545051-2da69939ed67427dc6bf3daba21059e9
ORGANIZER:Volleyball
SEQUENCE:261101747
LOCATION:Bezirkssportanlage Bremen-Süd, Volkmannstraße, 28201 Bremen
GEO:53.05703920000000000000;8.80756300000000000000
SUMMARY:OL 2 Fr.: BTS Neustadt - Bremen 1860
CLASS:PUBLIC
DTSTART:20210313T140000Z
DTSTAMP:20200801T082200Z
END:VEVENT
END:VCALENDAR