BEGIN:VCALENDAR
VERSION:2.0
PRODID:VSD-Portal-www.volley.de
METHOD:PUBLISH
BEGIN:VEVENT
UID:545049-2da69939ed67427dc6bf3daba21059e9
X-WR-RELCALID:545049-2da69939ed67427dc6bf3daba21059e9
ORGANIZER:Volleyball
SEQUENCE:261101746
LOCATION:Oberschule Westerstede, Norderstraße, 26655 Westerstede
GEO:53.26203150000000000000;7.92354860000000000000
SUMMARY:OL 2 Fr.: TSG Westerstede - Raspo Lathen
CLASS:PUBLIC
DTSTART:20210227T140000Z
DTSTAMP:20200801T082200Z
END:VEVENT
END:VCALENDAR