BEGIN:VCALENDAR
VERSION:2.0
PRODID:VSD-Portal-www.volley.de
METHOD:PUBLISH
BEGIN:VEVENT
UID:545036-2da69939ed67427dc6bf3daba21059e9
X-WR-RELCALID:545036-2da69939ed67427dc6bf3daba21059e9
ORGANIZER:Volleyball
SEQUENCE:261101617
LOCATION:Schulsporthalle Lathen, Melstruper Str. 15, 49762 Lathen
GEO:52.86588500000000000000;7.31924130000000000000
SUMMARY:OL 2 Fr.: Raspo Lathen - SG Karlshöfen/Gnarrenburg
CLASS:PUBLIC
DTSTART:20201212T130000Z
DTSTAMP:20200801T082200Z
END:VEVENT
END:VCALENDAR