BEGIN:VCALENDAR
VERSION:2.0
PRODID:VSD-Portal-www.volley.de
METHOD:PUBLISH
BEGIN:VEVENT
UID:545033-2da69939ed67427dc6bf3daba21059e9
X-WR-RELCALID:545033-2da69939ed67427dc6bf3daba21059e9
ORGANIZER:Volleyball
SEQUENCE:261101745
LOCATION:Schulzentrum Gnarrenburg, Brilliter Weg, 27442 Gnarrenburg
GEO:53.38964360000000000000;9.00001930000000000000
SUMMARY:OL 2 Fr.: SG Karlshöfen/Gnarrenburg - BTS Neustadt
CLASS:PUBLIC
DTSTART:20201205T140000Z
DTSTAMP:20200801T082200Z
END:VEVENT
END:VCALENDAR