BEGIN:VCALENDAR
VERSION:2.0
PRODID:VSD-Portal-www.volley.de
METHOD:PUBLISH
BEGIN:VEVENT
UID:545008-2da69939ed67427dc6bf3daba21059e9
X-WR-RELCALID:545008-2da69939ed67427dc6bf3daba21059e9
ORGANIZER:Volleyball
SEQUENCE:261092319
LOCATION:IGS Burgdorf (große Halle), Vor dem Celler Tor 91, 31303 Burg
 dorf
GEO:52.44926980000000000000;10.01296940000000000000
SUMMARY:OL 2 Mä.: TSV Burgdorf - DJK Kolping Northeim
CLASS:PUBLIC
DTSTART:20210313T140000Z
DTSTAMP:20200801T082200Z
END:VEVENT
END:VCALENDAR