BEGIN:VCALENDAR
VERSION:2.0
PRODID:VSD-Portal-www.volley.de
METHOD:PUBLISH
BEGIN:VEVENT
UID:543309-2da69939ed67427dc6bf3daba21059e9
X-WR-RELCALID:543309-2da69939ed67427dc6bf3daba21059e9
ORGANIZER:Volleyball
SEQUENCE:261131516
LOCATION:Sporthalle Danziger Strasse, Danziger Straße 45b/c, 18109 Ros
 tock
GEO:null;null
SUMMARY:LKl W Fr.: HSG Uni Rostock III - Kühlungsborner VV 95
CLASS:PUBLIC
DTSTART:20210227T090000Z
DTSTAMP:20200925T052000Z
END:VEVENT
END:VCALENDAR